BEGIN:VCALENDAR
VERSION:2.0
PRODID:-//ChamberMaster//Event Calendar 2.0//EN
METHOD:PUBLISH
X-PUBLISHED-TTL:P3D
REFRESH-INTERVAL:P3D
CALSCALE:GREGORIAN
BEGIN:VEVENT
DTSTART:20170525T010000Z
DTEND:20170525T030000Z
X-MICROSOFT-CDO-ALLDAYEVENT:FALSE
SUMMARY:SkillsUSA Cowboy BBQ
DESCRIPTION:Tickets are $10 and can be purchased from SkillsUSA members or by contacting Chuck Veloni at AHS.\n\nProceeds will help send SkillsUSA team members to the national competition in July.
X-ALT-DESC;FMTTYPE=text/html:<p>Tickets are $10 and can be purchased from SkillsUSA members or by contacting Chuck Veloni at AHS.</p>\n\n<p>Proceeds will help send <a href="http://kbkw.com/aberdeen-and-hoquiam-send-record-number-of-students-to-national-skillsusa-conference/" target="_blank"><font color="#0066cc">SkillsUSA team members</font></a> to the national competition in July.</p>\n
LOCATION:In the Commons at Aberdeen High School. 216 North G Street Aberdeen\, WA 98520
UID:e.26.7707
SEQUENCE:3
DTSTAMP:20260426T033011Z
URL:https://chamber.graysharbor.org/events/details/skillsusa-cowboy-bbq-7707
END:VEVENT

END:VCALENDAR
