BEGIN:VCALENDAR
VERSION:2.0
PRODID:-//ChamberMaster//Event Calendar 2.0//EN
METHOD:PUBLISH
X-PUBLISHED-TTL:P3D
REFRESH-INTERVAL:P3D
CALSCALE:GREGORIAN
BEGIN:VEVENT
DTSTART:20190427T020000Z
DTEND:20190427T040000Z
X-MICROSOFT-CDO-ALLDAYEVENT:FALSE
SUMMARY:Slam Poetry at the Pub
DESCRIPTION:Local poets will get the chance to step up to the mike in the library's first Poetry Slam. Poets Julia Gaskill and Stephen Meads of Portland's Poetry Slam Inc. will lead the competition with Shoalwater poet Misty Shipman-Ellingburg. Sponsored by the Friends of the Aberdeen Timberland Library. This program is for adults 21 and over. Printed rules will be available at the library after March 7.
X-ALT-DESC;FMTTYPE=text/html:<span style="font-size: 16px\; caret-color: rgb(68\, 68\, 68)\; color: rgb(68\, 68\, 68)\; font-family: Roboto\, sans-serif\; font-weight: bold\;">Local poets will get the chance to step up to the mike in the library&#39\;s first Poetry Slam. Poets Julia Gaskill and Stephen Meads of Portland&#39\;s Poetry Slam Inc. will lead the competition with Shoalwater poet Misty Shipman-Ellingburg. Sponsored by the Friends of the Aberdeen Timberland Library. This program is for adults 21 and over. Printed rules will be available at the library after March 7.</span>
LOCATION:Steam Donkey Brewing 101 E. Wishkah Street Aberdeen\, WA
UID:e.26.11943
SEQUENCE:3
DTSTAMP:20260424T163546Z
URL:https://chamber.graysharbor.org/events/details/slam-poetry-at-the-pub-11943
END:VEVENT

END:VCALENDAR
