BEGIN:VCALENDAR
VERSION:2.0
PRODID:-//ChamberMaster//Event Calendar 2.0//EN
METHOD:PUBLISH
X-PUBLISHED-TTL:P3D
REFRESH-INTERVAL:P3D
CALSCALE:GREGORIAN
BEGIN:VEVENT
DTSTART:20171203T030000Z
DTEND:20171203T050000Z
X-MICROSOFT-CDO-ALLDAYEVENT:FALSE
SUMMARY:Sleigh Bells Make & Paint Workshop
DESCRIPTION:Pull out your ugly sweater and bring your friends to our ugly Christmas sweater fundraiser supporting AHS Booster Girls Basketball. An instructor will guide you to build\, paint\, and take home an adorable wooden sleigh. Vinyl stencils will be provided to ensure perfection. All supplies will be provided including hors d'oeuvres and beverages. \n\n$58 per person\n\nPurchase Tickets at Grays Harbor Coffee \n\ntues- sat 9 am- 1pm \n\nOr ask your Girls basketball family's \n\n\n\nWe will have a prizes for the best ugly sweaters!\n\nAll Sales are Final No Refunds
X-ALT-DESC;FMTTYPE=text/html:<span style="color: rgb(75\, 79\, 86)\; font-family: Helvetica\, Arial\, sans-serif\; font-size: 14px\; background-color: rgb(255\, 255\, 255)\;">Pull out your ugly sweater and bring your friends to our ugly Christmas sweater fundraiser supporting AHS Booster Girls Basketball. An instructor will guide you to build\, paint\, and take home an adorable wooden sleigh. Vinyl stencils will be provided to ensure perfection. All supplies will be provided including hors d&rsquo\;oeuvres and beverages.&nbsp\;</span><br style="color: rgb(75\, 79\, 86)\; font-family: Helvetica\, Arial\, sans-serif\; font-size: 14px\; background-color: rgb(255\, 255\, 255)\;" />\n<span style="color: rgb(75\, 79\, 86)\; font-family: Helvetica\, Arial\, sans-serif\; font-size: 14px\; background-color: rgb(255\, 255\, 255)\;">$58 per person</span><br style="color: rgb(75\, 79\, 86)\; font-family: Helvetica\, Arial\, sans-serif\; font-size: 14px\; background-color: rgb(255\, 255\, 255)\;" />\n<span style="color: rgb(75\, 79\, 86)\; font-family: Helvetica\, Arial\, sans-serif\; font-size: 14px\; background-color: rgb(255\, 255\, 255)\;">Purchase Tickets at Grays Harbor Coffee&nbsp\;</span><br style="color: rgb(75\, 79\, 86)\; font-family: Helvetica\, Arial\, sans-serif\; font-size: 14px\; background-color: rgb(255\, 255\, 255)\;" />\n<span style="color: rgb(75\, 79\, 86)\; font-family: Helvetica\, Arial\, sans-serif\; font-size: 14px\; background-color: rgb(255\, 255\, 255)\;">tues- sat 9 am- 1pm&nbsp\;</span><br style="color: rgb(75\, 79\, 86)\; font-family: Helvetica\, Arial\, sans-serif\; font-size: 14px\; background-color: rgb(255\, 255\, 255)\;" />\n<span style="color: rgb(75\, 79\, 86)\; font-family: Helvetica\, Arial\, sans-serif\; font-size: 14px\; background-color: rgb(255\, 255\, 255)\;">Or ask your Girls basketball family&rsquo\;s&nbsp\;</span><br style="color: rgb(75\, 79\, 86)\; font-family: Helvetica\, Arial\, sans-serif\; font-size: 14px\; background-color: rgb(255\, 255\, 255)\;" />\n<br style="color: rgb(75\, 79\, 86)\; font-family: Helvetica\, Arial\, sans-serif\; font-size: 14px\; background-color: rgb(255\, 255\, 255)\;" />\n<span style="color: rgb(75\, 79\, 86)\; font-family: Helvetica\, Arial\, sans-serif\; font-size: 14px\; background-color: rgb(255\, 255\, 255)\;">We will have a prizes for the best ugly sweaters!</span><br style="color: rgb(75\, 79\, 86)\; font-family: Helvetica\, Arial\, sans-serif\; font-size: 14px\; background-color: rgb(255\, 255\, 255)\;" />\n<span style="color: rgb(75\, 79\, 86)\; font-family: Helvetica\, Arial\, sans-serif\; font-size: 14px\; background-color: rgb(255\, 255\, 255)\;">All Sales are Final No Refunds</span>
LOCATION:D&R Event Center 122 E Heron St. Aberdee\, WA
UID:e.26.8384
SEQUENCE:3
DTSTAMP:20260425T163555Z
URL:https://chamber.graysharbor.org/events/details/sleigh-bells-make-paint-workshop-8384
END:VEVENT

END:VCALENDAR
