BEGIN:VCALENDAR
VERSION:2.0
PRODID:-//ChamberMaster//Event Calendar 2.0//EN
METHOD:PUBLISH
X-PUBLISHED-TTL:P3D
REFRESH-INTERVAL:P3D
CALSCALE:GREGORIAN
BEGIN:VEVENT
DTSTART:20171218T020000Z
DTEND:20171218T040000Z
X-MICROSOFT-CDO-ALLDAYEVENT:FALSE
SUMMARY:Sleigh Bells Make & Paint Workshop
DESCRIPTION:Pull out your ugly sweater and bring your friends to our ugly Christmas sweater fundraiser supporting AHS Booster Girls Basketball. An instructor will guide you to build\, paint\, and take home an adorable wooden sleigh. Vinyl stencils will be provided to ensure perfection. All supplies will be provided including hors d'oeuvres and beverages. \n\n$58 per person\n\nPurchase Tickets at Grays Harbor Coffee \n\ntues- sat 9 am- 1pm \n\nOr ask your Girls basketball family's \n\n\n\nWe will have a prizes for the best ugly sweaters!\n\nAll Sales are Final No Refunds
X-ALT-DESC;FMTTYPE=text/html:<div class="_4-u2 _3xaf _3-95 _4-u8" style="margin-bottom: 8px\; border-width: 1px 0px\; border-style: solid\; border-image: initial\; border-color: transparent\; border-radius: 3px\; background-color: rgb(255\, 255\, 255)\; position: relative\; font-family: Helvetica\, Arial\, sans-serif\; color: rgb(29\, 33\, 41)\; font-size: 12px\;">\n<div class="_2qgs" style="color: rgb(75\, 79\, 86)\; padding: 12px\; position: relative\; border-top: none\; font-family: inherit\;"><span class="_4n-j _3cht fsl" data-testid="event-permalink-details" style="font-size: 14px\; font-family: inherit\;">Pull out your ugly sweater and bring your friends to our ugly Christmas sweater fundraiser supporting AHS Booster Girls Basketball. An instructor will guide you to build\, paint\, and take home an adorable wooden sleigh. Vinyl stencils will be provided to ensure perfection. All supplies will be provided including hors d&rsquo\;oeuvres and beverages.&nbsp\;<br />\n$58 per person<br />\nPurchase Tickets at Grays Harbor Coffee&nbsp\;<br />\ntues- sat 9 am- 1pm&nbsp\;<br />\nOr ask your Girls basketball family&rsquo\;s&nbsp\;<br />\n<br />\nWe will have a prizes for the best ugly sweaters!<br />\nAll Sales are Final No Refunds</span></div>\n</div>\n\n<div data-testid="message_friends_unit" id="u_fetchstream_23_p" style="font-family: Helvetica\, Arial\, sans-serif\; color: rgb(29\, 33\, 41)\; font-size: 12px\; background-color: rgb(233\, 235\, 238)\;">\n<div class="_5-ra _4-u2  _4-u8" style="border-width: 1px 0px\; border-style: solid\; border-image: initial\; border-color: transparent\; border-radius: 3px\; background-color: rgb(255\, 255\, 255)\; margin-bottom: 12px\; position: relative\; font-family: inherit\;">\n<div class="_5dw9 _5dwa _4-u3" style="line-height: 12px\; overflow: hidden\; padding: 8px 0px 7px\; position: relative\; border-top: none\; min-height: 24px\; border-top-left-radius: 3px\; border-top-right-radius: 3px\; font-family: inherit\;">&nbsp\;</div>\n</div>\n</div>\n
LOCATION:D&R Event Center Aberdeen\, WA
UID:e.26.9411
SEQUENCE:3
DTSTAMP:20260425T163627Z
URL:https://chamber.graysharbor.org/events/details/sleigh-bells-make-paint-workshop-9411
END:VEVENT

END:VCALENDAR
