BEGIN:VCALENDAR
VERSION:2.0
PRODID:-//ChamberMaster//Event Calendar 2.0//EN
METHOD:PUBLISH
X-PUBLISHED-TTL:P3D
REFRESH-INTERVAL:P3D
CALSCALE:GREGORIAN
BEGIN:VEVENT
DTSTART;VALUE=DATE:20191130
DTEND;VALUE=DATE:20191201
TRANSP:TRANSPARENT
X-MICROSOFT-CDO-ALLDAYEVENT:TRUE
SUMMARY:Small Business Saturday
DESCRIPTION:This Nov 30th\, be a part of the 10th annual holiday shopping tradition that brings together communities in support of their favorite small businesses. Shop local and support Grays Harbor!
X-ALT-DESC;FMTTYPE=text/html:<span style="font-size:14px\;"><span style="font-family: BentonSans-Bk\, BentonSans\, Arial\, Helvetica\, sans-serif\; text-align: center\; background-color: rgba(255\, 255\, 255\, 0.901961)\;">This Nov 30th\, be a part of the 10th annual holiday shopping tradition</span><span style="font-family: BentonSans-Bk\, BentonSans\, Arial\, Helvetica\, sans-serif\; text-align: center\; background-color: rgb(255\, 255\, 255)\;">&nbsp\;</span><span style="font-family: BentonSans-Bk\, BentonSans\, Arial\, Helvetica\, sans-serif\; text-align: center\; background-color: rgba(255\, 255\, 255\, 0.901961)\;">that brings together communities in support of their favorite small</span><span style="font-family: BentonSans-Bk\, BentonSans\, Arial\, Helvetica\, sans-serif\; text-align: center\; background-color: rgb(255\, 255\, 255)\;">&nbsp\;</span><span style="font-family: BentonSans-Bk\, BentonSans\, Arial\, Helvetica\, sans-serif\; text-align: center\; background-color: rgba(255\, 255\, 255\, 0.901961)\;">businesses. Shop local and support Grays Harbor!</span></span>
LOCATION:
UID:e.26.12241
SEQUENCE:3
DTSTAMP:20260424T041942Z
URL:https://chamber.graysharbor.org/events/details/small-business-saturday-12241
END:VEVENT

END:VCALENDAR
