BEGIN:VCALENDAR
VERSION:2.0
PRODID:-//ChamberMaster//Event Calendar 2.0//EN
METHOD:PUBLISH
X-PUBLISHED-TTL:P3D
REFRESH-INTERVAL:P3D
CALSCALE:GREGORIAN
BEGIN:VEVENT
DTSTART;VALUE=DATE:20171125
DTEND;VALUE=DATE:20171126
TRANSP:TRANSPARENT
X-MICROSOFT-CDO-ALLDAYEVENT:TRUE
SUMMARY:Small Business Saturday
DESCRIPTION:Small Business Saturday is about more than just shopping at local stores. It's about celebrating and sharing the small businesses that are part of our lives - from corner stores\, to food trucks\, to online boutiques. It's a cause that helps to support local economies and promote vibrant\, diverse communities. It's also a nationwide movement fueled by shoppers\, business owners\, and organizers who come together and celebrate the community because they know it matters. They're the places we call our own and can't imagine living without.\n\n\n\nIt's these businesses and the people behind them that make Hoquiam and Grays Harbor unique. And when they succeed\, we all do.\n\n\n\nSo this Saturday\, November 25th\, we are asking you to do two things: \n\n\n\n1. Help out all your favorite local small businesses by taking just a couple minutes of your time to leave positive reviews on their Facebook\, Google and Yelp pages to encourage and recommend others to shop there too! \n\n\n\nAND...\n\n\n\n2. Go out and support your local small businesses either at their location\, or online and #SHOPSMALL
X-ALT-DESC;FMTTYPE=text/html:<span style="color: rgb(75\, 79\, 86)\; font-family: Helvetica\, Arial\, sans-serif\; font-size: 14px\; background-color: rgb(255\, 255\, 255)\;">Small Business Saturday is about more than just shopping at local stores. It&#39\;s about celebrating and sharing the small businesses that are part of our lives - from corner stores\, to food trucks\, to online boutiques. It&rsquo\;s a cause that helps to support local economies and promote vibrant\, diverse communities. It&rsquo\;s also a nationwide movement fueled by shoppers\, business owners\, and organizers who come together and celebrate the community because they know it matters. They&#39\;re the places we call our own and can&#39\;t imagine living without.</span><br style="color: rgb(75\, 79\, 86)\; font-family: Helvetica\, Arial\, sans-serif\; font-size: 14px\; background-color: rgb(255\, 255\, 255)\;" />\n<br style="color: rgb(75\, 79\, 86)\; font-family: Helvetica\, Arial\, sans-serif\; font-size: 14px\; background-color: rgb(255\, 255\, 255)\;" />\n<span style="color: rgb(75\, 79\, 86)\; font-family: Helvetica\, Arial\, sans-serif\; font-size: 14px\; background-color: rgb(255\, 255\, 255)\;">It&#39\;s these businesses and the people behind them that make Hoquiam and Grays Harbor unique. And when they succeed\, we all do.</span><br style="color: rgb(75\, 79\, 86)\; font-family: Helvetica\, Arial\, sans-serif\; font-size: 14px\; background-color: rgb(255\, 255\, 255)\;" />\n<br style="color: rgb(75\, 79\, 86)\; font-family: Helvetica\, Arial\, sans-serif\; font-size: 14px\; background-color: rgb(255\, 255\, 255)\;" />\n<span style="color: rgb(75\, 79\, 86)\; font-family: Helvetica\, Arial\, sans-serif\; font-size: 14px\; background-color: rgb(255\, 255\, 255)\;">So this Saturday\, November 25th\, we are asking you to do two things:&nbsp\;</span><br style="color: rgb(75\, 79\, 86)\; font-family: Helvetica\, Arial\, sans-serif\; font-size: 14px\; background-color: rgb(255\, 255\, 255)\;" />\n<br style="color: rgb(75\, 79\, 86)\; font-family: Helvetica\, Arial\, sans-serif\; font-size: 14px\; background-color: rgb(255\, 255\, 255)\;" />\n<span style="color: rgb(75\, 79\, 86)\; font-family: Helvetica\, Arial\, sans-serif\; font-size: 14px\; background-color: rgb(255\, 255\, 255)\;">1. Help out all your favorite local small businesses by taking just a couple minutes of your time to leave positive reviews on their Facebook\, Google and Yelp pages to encourage and recommend others to shop there too!&nbsp\;</span><br style="color: rgb(75\, 79\, 86)\; font-family: Helvetica\, Arial\, sans-serif\; font-size: 14px\; background-color: rgb(255\, 255\, 255)\;" />\n<br style="color: rgb(75\, 79\, 86)\; font-family: Helvetica\, Arial\, sans-serif\; font-size: 14px\; background-color: rgb(255\, 255\, 255)\;" />\n<span style="color: rgb(75\, 79\, 86)\; font-family: Helvetica\, Arial\, sans-serif\; font-size: 14px\; background-color: rgb(255\, 255\, 255)\;">AND...</span><br style="color: rgb(75\, 79\, 86)\; font-family: Helvetica\, Arial\, sans-serif\; font-size: 14px\; background-color: rgb(255\, 255\, 255)\;" />\n<br style="color: rgb(75\, 79\, 86)\; font-family: Helvetica\, Arial\, sans-serif\; font-size: 14px\; background-color: rgb(255\, 255\, 255)\;" />\n<span style="color: rgb(75\, 79\, 86)\; font-family: Helvetica\, Arial\, sans-serif\; font-size: 14px\; background-color: rgb(255\, 255\, 255)\;">2. Go out and support your local small businesses either at their location\, or online and&nbsp\;</span><a class="_58cn" data-ft="{&quot\;tn&quot\;:&quot\;*N&quot\;\,&quot\;type&quot\;:104}" href="https://www.facebook.com/hashtag/shopsmall" style="color: rgb(54\, 88\, 153)\; cursor: pointer\; text-decoration-line: none\; font-family: Helvetica\, Arial\, sans-serif\; font-size: 14px\; background-color: rgb(255\, 255\, 255)\;">#SHOPSMALL</a>
LOCATION:
UID:e.26.8374
SEQUENCE:3
DTSTAMP:20260425T181240Z
URL:https://chamber.graysharbor.org/events/details/small-business-saturday-8374
END:VEVENT

END:VCALENDAR
