BEGIN:VCALENDAR
VERSION:2.0
PRODID:-//ChamberMaster//Event Calendar 2.0//EN
METHOD:PUBLISH
X-PUBLISHED-TTL:P3D
REFRESH-INTERVAL:P3D
CALSCALE:GREGORIAN
BEGIN:VEVENT
DTSTART:20200221T160000Z
DTEND:20200221T190000Z
X-MICROSOFT-CDO-ALLDAYEVENT:FALSE
SUMMARY:Small Manufacturing Operations Workshop
DESCRIPTION:Impact Washington is launching a four-part Small Business Operation Fundamentals Series that offers small manufacturers\, entrepreneurs\, and start-ups fresh ideas\, new tools\, and approaches to improve operations. \n\n\n\nWorkshop 1-Basic Operations 101: February 21\, 2020\n\nTime: 8 a.m.-11 a.m. (workshops 1-3)\n\nWorkshop 2-Quality Management Systems Fundamentals: March 13\, 2020\n\nWorkshop 3-Introduction to Lean Manufacturing: April 2\, 2020\n\nWorkshop 4-Principles of Lean Manufacturing w/Live Simulation Lean 101: April 30\, 2020\n\nTime: 8:00 a.m.-4:00 p.m (workshop 4)
X-ALT-DESC;FMTTYPE=text/html:<div>&nbsp\;</div>\n\n<div><span style="font-size:14px\;"><span style="font-family:arial\;"><a class="profileLink" data-hovercard="/ajax/hovercard/page.php?id=300772318165&amp\;extragetparams=%7B%22__tn__%22%3A%22%2CdK-R-R%22%2C%22eid%22%3A%22ARDmh5UA7yL-QoV0EwO-FdnHL_bDODZgjCmOlvsWECZrnwmjeU0ObB-7nNHRgF4LNcPErvR4Bq3o9aQi%22%2C%22fref%22%3A%22mentions%22%7D&amp\;av=102743356510389&amp\;eav=AfbkhsSxz3u8hHDoYO2RqJWcBReHiIUinVf8_F7y5BsR0YQAymw9FhOtMHz6fLPtTqk" data-hovercard-prefer-more-content-show="1" href="https://www.facebook.com/ImpactWA/?__tn__=K-R&amp\;eid=ARDmh5UA7yL-QoV0EwO-FdnHL_bDODZgjCmOlvsWECZrnwmjeU0ObB-7nNHRgF4LNcPErvR4Bq3o9aQi&amp\;fref=mentions&amp\;__xts__%5B0%5D=68.ARAlAgD_Aj-Lvv2rp5k7mv8SRLCx4HO4ypDojUzrfOq2kxelWIIXVk9azsM0fN1gtTuKfbXNAxrEy8jnl8D-gUgXyqQTq1OlrQyFm6e7neGsQoSnROWy8fZ9I38NKpjG0T6XOnmUkLa71PL43Bj55TsYKgUEfxvGWZi_i2tb4dwEMMdD-GM_lyGcoJVX0AAjgWyrlZokPmyxjTbv_TG3as4YgTAesfzoAoH41bs4f0Lc_LmP7kYBGBpIeRo1XnwBSgaJU6wBahrZ-sE84ebJx6jw8l-9eSpFmva8rBabtO87QWjLTDReCqCzB8aTj3b4pABNszbYRELKgTfhEdXZdd7npg" style="color: rgb(56\, 88\, 152)\; cursor: pointer\; text-decoration: none\; font-family: system-ui\, -apple-system\, BlinkMacSystemFont\, &quot\;.SFNSText-Regular&quot\;\, sans-serif\; font-size: 14px\;">Impact Washington</a><span style="caret-color: rgb(28\, 30\, 33)\; background-color: rgb(255\, 255\, 255)\;">&nbsp\;is launching a four-part Small Business Operation Fundamentals Series that offers small manufacturers\, entrepreneurs\, and start-ups fresh ideas\, new tools\, and approaches to improve operations.&nbsp\;</span><br />\n<br />\n<span style="font-weight: 700\; padding-top: 0px\;">Workshop 1-Basic Operations 101</span>: February 21\, 2020</span></span></div>\n\n<p style="font-size: 16px\; margin: 0px\; padding: 10px 0px 0px\; color: rgb(111\, 114\, 135)\; line-height: 1.5rem\; font-family: &quot\;Neue Plak&quot\;\, -apple-system\, BlinkMacSystemFont\, Roboto\, &quot\;Helvetica Neue&quot\;\, Helvetica\, Tahoma\, Arial\, sans-serif\; letter-spacing: 0.5px\;"><span style="color:#000000\;"><span style="font-size:14px\;"><span style="font-family:arial\;">Time: 8 a.m.-11 a.m. (workshops 1-3)</span></span></span></p>\n\n<p style="font-size: 16px\; margin: 0px\; padding: 10px 0px 0px\; color: rgb(111\, 114\, 135)\; line-height: 1.5rem\; font-family: &quot\;Neue Plak&quot\;\, -apple-system\, BlinkMacSystemFont\, Roboto\, &quot\;Helvetica Neue&quot\;\, Helvetica\, Tahoma\, Arial\, sans-serif\; letter-spacing: 0.5px\;"><span style="color:#000000\;"><span style="font-size:14px\;"><span style="font-family:arial\;"><span style="font-weight: 700\; padding-top: 0px\;">Workshop 2-Quality Management Systems Fundamentals</span>: March 13\, 2020</span></span></span></p>\n\n<p style="font-size: 16px\; margin: 0px\; padding: 10px 0px 0px\; color: rgb(111\, 114\, 135)\; line-height: 1.5rem\; font-family: &quot\;Neue Plak&quot\;\, -apple-system\, BlinkMacSystemFont\, Roboto\, &quot\;Helvetica Neue&quot\;\, Helvetica\, Tahoma\, Arial\, sans-serif\; letter-spacing: 0.5px\;"><span style="color:#000000\;"><span style="font-size:14px\;"><span style="font-family:arial\;"><span style="font-weight: 700\; padding-top: 0px\;">Workshop 3-Introduction to Lean Manufacturing</span>: April 2\, 2020</span></span></span></p>\n\n<p style="font-size: 16px\; margin: 0px\; padding: 10px 0px 0px\; color: rgb(111\, 114\, 135)\; line-height: 1.5rem\; font-family: &quot\;Neue Plak&quot\;\, -apple-system\, BlinkMacSystemFont\, Roboto\, &quot\;Helvetica Neue&quot\;\, Helvetica\, Tahoma\, Arial\, sans-serif\; letter-spacing: 0.5px\;"><span style="color:#000000\;"><span style="font-size:14px\;"><span style="font-family:arial\;"><span style="font-weight: 700\; padding-top: 0px\;">Workshop 4-Principles of Lean Manufacturing w/Live Simulation Lean 101</span>: April 30\, 2020</span></span></span></p>\n\n<p style="font-size: 16px\; margin: 0px\; padding: 10px 0px 0px\; color: rgb(111\, 114\, 135)\; line-height: 1.5rem\; font-family: &quot\;Neue Plak&quot\;\, -apple-system\, BlinkMacSystemFont\, Roboto\, &quot\;Helvetica Neue&quot\;\, Helvetica\, Tahoma\, Arial\, sans-serif\; letter-spacing: 0.5px\;"><span style="color:#000000\;"><span style="font-size:14px\;"><span style="font-family:arial\;">Time: 8:00 a.m.-4:00 p.m (workshop 4)</span></span></span></p>\n
LOCATION:South Puget Sound Community College Lacey Campus 4220 6th Avenue Southeast Lacey\, WA 98503
UID:e.26.12417
SEQUENCE:3
DTSTAMP:20260424T041816Z
URL:https://chamber.graysharbor.org/events/details/small-manufacturing-operations-workshop-12417
END:VEVENT

END:VCALENDAR
