BEGIN:VCALENDAR
VERSION:2.0
PRODID:-//ChamberMaster//Event Calendar 2.0//EN
METHOD:PUBLISH
X-PUBLISHED-TTL:P3D
REFRESH-INTERVAL:P3D
CALSCALE:GREGORIAN
BEGIN:VEVENT
DTSTART:20251122T190000Z
DTEND:20251123T010000Z
X-MICROSOFT-CDO-ALLDAYEVENT:FALSE
SUMMARY:Snowbird Farm & Cidery Craft Market
DESCRIPTION:Come and sip and shop at the farm! Tons of vendors\, food\, locally made cider and much more fun awatis.
X-ALT-DESC;FMTTYPE=text/html:Come and sip and shop at the farm! Tons of vendors\, food\, locally made cider and much more fun awatis.&nbsp\;
LOCATION:Snowbird Farm & Cidery 484 Old Monte Brady Road Montesano\, WA
UID:e.26.15302
SEQUENCE:3
DTSTAMP:20260423T234540Z
URL:https://chamber.graysharbor.org/events/details/snowbird-farm-cidery-craft-market-15302
END:VEVENT

END:VCALENDAR
