BEGIN:VCALENDAR
VERSION:2.0
PRODID:-//ChamberMaster//Event Calendar 2.0//EN
METHOD:PUBLISH
X-PUBLISHED-TTL:P3D
REFRESH-INTERVAL:P3D
CALSCALE:GREGORIAN
BEGIN:VEVENT
DTSTART:20210529T230000Z
DTEND:20210530T050000Z
X-MICROSOFT-CDO-ALLDAYEVENT:FALSE
SUMMARY:Solstice Dinner Concert
DESCRIPTION:Two bands\, two shows! Double Barrel BBQ in Ocean Shores presents Solstice Dinner Concert featuring a tribute to Fleetwood Mac and Stevie Nicks featuring Lee Ann Davis. Included is a delicious taco dinner.
X-ALT-DESC;FMTTYPE=text/html:Two bands\, two shows! Double Barrel BBQ in Ocean Shores presents Solstice Dinner Concert featuring a tribute to Fleetwood Mac and Stevie Nicks featuring Lee Ann Davis. Included is a delicious taco dinner.
LOCATION:Ocean Shores Convention Center 120 W Chance a La Mer NW Ocean Shores\, WA 98569
UID:e.26.12623
SEQUENCE:3
DTSTAMP:20260424T090238Z
URL:https://chamber.graysharbor.org/events/details/solstice-dinner-concert-05-29-2021-12623
END:VEVENT

END:VCALENDAR
