BEGIN:VCALENDAR
VERSION:2.0
PRODID:-//ChamberMaster//Event Calendar 2.0//EN
METHOD:PUBLISH
X-PUBLISHED-TTL:P3D
REFRESH-INTERVAL:P3D
CALSCALE:GREGORIAN
BEGIN:VEVENT
DTSTART:20190915T013000Z
DTEND:20190915T030000Z
X-MICROSOFT-CDO-ALLDAYEVENT:FALSE
SUMMARY:Soulmates at Seabrook's Fall Concert Series
DESCRIPTION:Head out to Seabrook for a fun night out at Seabrook's Fall Concert Series! \n\nFrom blues to jazz to funk and soul\, SoulMates offer the unique combination of different styles and techniques that can set your heart on fire. They have been rightly called "the favorite band of Portland's musicians." \n\nJay "Bird" Koder is the master guitarist who anchors this crew of brilliant musicians. A composer and arranger\, also\, he breaks categories and boundaries and freely crosses between musical genres taking you on a sonic quest for that unique sound. \n\nJarrod Lawson\, also a composer/arranger\, is the voice that is determined to take you higher than you ever imagined and his keyboards and kicking bass let you know that you have been taken to a different place in music. \n\nReinhardt Melz is the incredible drummer that has learned from the best and has become the best. He also composes and arranges and he rearranges your spine with that thunderous but still melodic percussion. SoulMates\, the pursuit of perfection.
X-ALT-DESC;FMTTYPE=text/html:<p style="font-size: 16px\; box-sizing: border-box\; -webkit-font-smoothing: subpixel-antialiased\; margin: 0px 0px 1.25em\; padding: 0px\; border: 0px\; outline: 0px\; font-family: myriad-pro\, sans-serif\; vertical-align: baseline\; color: rgb(20\, 20\, 20)\; direction: ltr\; line-height: 1.45\; text-rendering: optimizeLegibility\; letter-spacing: 0.47999998927116394px\; caret-color: rgb(84\, 102\, 108)\;"><font color="#000000" style="box-sizing: border-box\; -webkit-font-smoothing: subpixel-antialiased\;"><span style="box-sizing: border-box\; -webkit-font-smoothing: subpixel-antialiased\; margin: 0px\; padding: 0px\; border: 0px\; outline: 0px\; font-style: inherit\; vertical-align: baseline\; line-height: 1.45\;">Head out to Seabrook for a fun night out at Seabrook&#39\;s Fall Concert Series!&nbsp\;</span></font></p>\n\n<p style="font-size: 16px\; box-sizing: border-box\; -webkit-font-smoothing: subpixel-antialiased\; margin: 0px 0px 1.25em\; padding: 0px\; border: 0px\; outline: 0px\; font-family: myriad-pro\, sans-serif\; vertical-align: baseline\; color: rgb(20\, 20\, 20)\; direction: ltr\; line-height: 1.45\; text-rendering: optimizeLegibility\; letter-spacing: 0.47999998927116394px\; caret-color: rgb(84\, 102\, 108)\;"><font color="#000000" style="box-sizing: border-box\; -webkit-font-smoothing: subpixel-antialiased\;"><span style="box-sizing: border-box\; -webkit-font-smoothing: subpixel-antialiased\; margin: 0px\; padding: 0px\; border: 0px\; outline: 0px\; font-style: inherit\; vertical-align: baseline\; line-height: 1.45\;">From blues to jazz to funk and soul\, SoulMates offer the unique combination of different styles and techniques that can set your heart on fire.&nbsp\;</span>They have been rightly called &ldquo\;the favorite band of Portland&rsquo\;s musicians.&rdquo\;&nbsp\;</font></p>\n\n<p style="font-size: 16px\; box-sizing: border-box\; -webkit-font-smoothing: subpixel-antialiased\; margin: 0px 0px 1.25em\; padding: 0px\; border: 0px\; outline: 0px\; font-family: myriad-pro\, sans-serif\; vertical-align: baseline\; color: rgb(20\, 20\, 20)\; direction: ltr\; line-height: 1.45\; text-rendering: optimizeLegibility\; letter-spacing: 0.47999998927116394px\; caret-color: rgb(84\, 102\, 108)\;"><span style="box-sizing: border-box\; -webkit-font-smoothing: subpixel-antialiased\; margin: 0px\; padding: 0px\; border: 0px\; outline: 0px\; font-style: inherit\; vertical-align: baseline\; line-height: 1.45\;"><font color="#000000" style="box-sizing: border-box\; -webkit-font-smoothing: subpixel-antialiased\;">Jay &ldquo\;Bird&rdquo\; Koder is the master guitarist who anchors this crew of brilliant musicians. A composer and arranger\, also\, he breaks categories and boundaries and freely crosses between musical genres taking you on a sonic quest for that unique sound.&nbsp\;</font></span></p>\n\n<p style="font-size: 16px\; box-sizing: border-box\; -webkit-font-smoothing: subpixel-antialiased\; margin: 0px 0px 1.25em\; padding: 0px\; border: 0px\; outline: 0px\; font-family: myriad-pro\, sans-serif\; vertical-align: baseline\; color: rgb(20\, 20\, 20)\; direction: ltr\; line-height: 1.45\; text-rendering: optimizeLegibility\; letter-spacing: 0.47999998927116394px\; caret-color: rgb(84\, 102\, 108)\;"><span style="box-sizing: border-box\; -webkit-font-smoothing: subpixel-antialiased\; margin: 0px\; padding: 0px\; border: 0px\; outline: 0px\; font-style: inherit\; vertical-align: baseline\; line-height: 1.45\;"><font color="#000000" style="box-sizing: border-box\; -webkit-font-smoothing: subpixel-antialiased\;">Jarrod Lawson\, also a composer/arranger\, is the voice that is determined to take you higher than you ever imagined and his keyboards and kicking bass let you know that you have been taken to a different place in music.&nbsp\;</font></span></p>\n\n<p style="font-size: 16px\; box-sizing: border-box\; -webkit-font-smoothing: subpixel-antialiased\; margin: 0px 0px 1.25em\; padding: 0px\; border: 0px\; outline: 0px\; font-family: myriad-pro\, sans-serif\; vertical-align: baseline\; color: rgb(20\, 20\, 20)\; direction: ltr\; line-height: 1.45\; text-rendering: optimizeLegibility\; letter-spacing: 0.47999998927116394px\; caret-color: rgb(84\, 102\, 108)\;"><span style="box-sizing: border-box\; -webkit-font-smoothing: subpixel-antialiased\; margin: 0px\; padding: 0px\; border: 0px\; outline: 0px\; font-style: inherit\; vertical-align: baseline\; line-height: 1.45\;"><font color="#000000" style="box-sizing: border-box\; -webkit-font-smoothing: subpixel-antialiased\;">Reinhardt Melz is the incredible drummer that has learned from the best and has become the best. He also composes and arranges and he rearranges your spine with that thunderous but still melodic percussion. SoulMates\, the pursuit of perfection.</font></span></p>\n
LOCATION:Seabrook Pacific Beach\, WA
UID:e.26.12183
SEQUENCE:3
DTSTAMP:20260424T074356Z
URL:https://chamber.graysharbor.org/events/details/soulmates-at-seabrook-s-fall-concert-series-12183
END:VEVENT

END:VCALENDAR
