BEGIN:VCALENDAR
VERSION:2.0
PRODID:-//ChamberMaster//Event Calendar 2.0//EN
METHOD:PUBLISH
X-PUBLISHED-TTL:P3D
REFRESH-INTERVAL:P3D
CALSCALE:GREGORIAN
BEGIN:VEVENT
DTSTART:20241019T170000Z
DTEND:20241020T000000Z
X-MICROSOFT-CDO-ALLDAYEVENT:FALSE
SUMMARY:South Beach Mushroom Festival
DESCRIPTION:Join us for the South Beach Mushroom Festival! Celebrating foraging in the PNW. Interested vendors can contact Erin at Grayland Beach Outfitters for an application form at (360) 268-7177. Vendor applications must be received by October 10th\, 2024.
X-ALT-DESC;FMTTYPE=text/html:Join us for the South Beach Mushroom Festival! Celebrating foraging in the PNW. Interested vendors can contact Erin at Grayland Beach Outfitters for an application form at (360) 268-7177. Vendor applications must be received by October 10th\, 2024.&nbsp\;
LOCATION:Grayland Community Hall 2071 Cranberry Road Grayland\, WA
UID:e.26.14820
SEQUENCE:3
DTSTAMP:20260423T150403Z
URL:https://chamber.graysharbor.org/events/details/south-beach-mushroom-festival-14820
END:VEVENT

END:VCALENDAR
