BEGIN:VCALENDAR
VERSION:2.0
PRODID:-//ChamberMaster//Event Calendar 2.0//EN
METHOD:PUBLISH
X-PUBLISHED-TTL:P3D
REFRESH-INTERVAL:P3D
CALSCALE:GREGORIAN
BEGIN:VEVENT
DTSTART;VALUE=DATE:20171220
DTEND;VALUE=DATE:20171221
TRANSP:TRANSPARENT
X-MICROSOFT-CDO-ALLDAYEVENT:TRUE
SUMMARY:South Beach Santa Night
DESCRIPTION:Your local Fire and EMS Crews will be driving Santa and Mrs. Claus around the South Beach area on Wednesday December 20th. starting at 6:30 PM. Any parent interested in having Santa and Mrs. Claus stop by their home please contact South Beach Regional Fire Authority at (360) 268 - 9832. \n\n\n\nDuring this time the fire trucks will be accepting donations for the local food bank of the South Beach. non perishable food is always in great need this time of year. \n\n\n\nAnyone interested in donating new toys or money to Santa night can do so at our headquarters @ 170 W Spokane ST in Westport.\n\n\n\nWe would like to thank Janet Belles for making beautiful stockings and mittens\, which will help keep many warm this winter. Special thanks to Brumfield Construction for their generous donation. South Beach Regional fire Authority\, South Beach association and the Ocosta Fire Association sending a big thanks to those that donate and help create this event.\n\n\n\nAll of us at South Beach Regional Fire Authority would like to wish you all a safe and happy holiday season.\n\n\n\n	Kid Friendly
X-ALT-DESC;FMTTYPE=text/html:<div class="_2qgs" style="color: rgb(75\, 79\, 86)\; padding: 12px\; position: relative\; border-top: none\; font-family: Helvetica\, Arial\, sans-serif\; font-size: 12px\;"><span class="_4n-j _fbReactionComponent__eventDetailsContentTags fsl" data-testid="event-permalink-details" style="font-size: 14px\; font-family: inherit\;">Your local Fire and EMS Crews will be driving Santa and Mrs. Claus around the South Beach area on Wednesday December 20th. starting at 6:30 PM. Any parent interested in having Santa and Mrs. Claus stop by their home please contact South Beach Regional Fire Authority at (360) 268 - 9832.&nbsp\;<br />\n<br />\nDuring this time the fire trucks will be accepting donations for the local food bank of the South Beach. non perishable food is always in great need this time of year.&nbsp\;<br />\n<br />\nAnyone interested in donating new toys or money to Santa night can do so at our headquarters @ 170 W Spokane ST in Westport.<br />\n<br />\nWe would like to thank Janet Belles for making beautiful stockings and mittens\, which will help keep many warm this winter. Special thanks to Brumfield Construction for their generous donation. South Beach Regional fire Authority\, South Beach association and the Ocosta Fire Association sending a big thanks to those that donate and help create this event.<br />\n<br />\nAll of us at South Beach Regional Fire Authority would like to wish you all a safe and happy holiday season.</span></div>\n\n<div class="_1r51" style="line-height: 24px\; margin: 4px 12px 12px\; min-height: 24px\; font-family: Helvetica\, Arial\, sans-serif\; color: rgb(29\, 33\, 41)\; font-size: 12px\;">\n<ul class="uiList uiCollapsedList uiCollapsedListHidden _509- _4ki" id="u_jsonp_9_o" style="list-style-type: none\; margin: 0px\; padding: 0px\;">\n	<li style="border-width: 0px\; display: inline-block\; vertical-align: top\;"><a href="https://www.facebook.com/events/discovery/?acontext=%7B%22ref%22%3A44%2C%22unit_ref%22%3A%22related_events%22%2C%22source%22%3A1%2C%22action_history%22%3A%22%5B%7B%5C%22surface%5C%22%3A%5C%22permalink%5C%22%2C%5C%22mechanism%5C%22%3A%5C%22RHC%5C%22%2C%5C%22extra_data%5C%22%3A%5B%5D%7D%2C%7B%5C%22surface%5C%22%3A%5C%22permalink%5C%22%2C%5C%22mechanism%5C%22%3A%5C%22surface%5C%22%2C%5C%22extra_data%5C%22%3A%5B%5D%7D%2C%7B%5C%22surface%5C%22%3A%5C%22permalink%5C%22%2C%5C%22mechanism%5C%22%3A%5C%22event_information%5C%22%2C%5C%22extra_data%5C%22%3A%7B%5C%22tag%5C%22%3A%5C%22Kid+Friendly%5C%22%7D%7D%5D%22%2C%22has_source%22%3Atrue%7D&amp\;suggestion_token=%7B%22event_flags%22%3A%5B%22family_friendly%22%5D%7D" style="color: rgb(54\, 88\, 153)\; cursor: pointer\; text-decoration-line: none\; font-family: inherit\;"><span class="_47od" style="background-color: rgb(237\, 242\, 250)\; border-radius: 2px\; color: rgb(32\, 55\, 95)\; display: block\; height: 14px\; line-height: 14px\; margin: 0px 4px 4px 0px\; padding: 4px 6px\; position: relative\; font-family: inherit\;">Kid Friendly</span></a></li>\n</ul>\n</div>\n
LOCATION:170 W Spokane Ave. Westport\, WA
UID:e.26.9396
SEQUENCE:3
DTSTAMP:20260425T163801Z
URL:https://chamber.graysharbor.org/events/details/south-beach-santa-night-9396
END:VEVENT

END:VCALENDAR
