BEGIN:VCALENDAR
VERSION:2.0
PRODID:-//ChamberMaster//Event Calendar 2.0//EN
METHOD:PUBLISH
X-PUBLISHED-TTL:P3D
REFRESH-INTERVAL:P3D
CALSCALE:GREGORIAN
BEGIN:VEVENT
DTSTART:20190510T224500Z
DTEND:20190511T000000Z
X-MICROSOFT-CDO-ALLDAYEVENT:FALSE
SUMMARY:Spa Elizabeth Boutique Ribbon Cutting
DESCRIPTION:GGHI will be partnering with the Ocean Shores Chamber of Commerce for a ribbon cutting for the Spa Elizabeth Boutique that will be opening this spring! The event will take place on Friday\, May 10th at 3:45 pm. They're located at 225 Front St. in Pacific Beach (Seabrook). Check out this new boutique while enjoying some time in beautiful Seabrook!
X-ALT-DESC;FMTTYPE=text/html:<span style="caret-color: rgb(34\, 34\, 34)\; color: rgb(34\, 34\, 34)\; font-family: Arial\, Helvetica\, sans-serif\; font-size: small\;">GGHI&nbsp\;will be partnering with the Ocean Shores Chamber of Commerce for a&nbsp\;ribbon cutting for the Spa Elizabeth Boutique that will be opening this spring! The event will take place on Friday\, May 10</span><sup style="caret-color: rgb(34\, 34\, 34)\; color: rgb(34\, 34\, 34)\; font-family: Arial\, Helvetica\, sans-serif\;">th</sup><span style="caret-color: rgb(34\, 34\, 34)\; color: rgb(34\, 34\, 34)\; font-family: Arial\, Helvetica\, sans-serif\; font-size: small\;">&nbsp\;at 3:45 pm. They&#39\;re located at 225 Front St. in Pacific Beach (Seabrook). Check out this new boutique while enjoying some time in beautiful Seabrook!</span>
LOCATION:Spa Elizabeth Boutique 225 Front St. Seabrook Pacific Beach\, WA
UID:e.26.11969
SEQUENCE:3
DTSTAMP:20260424T132910Z
URL:https://chamber.graysharbor.org/events/details/spa-elizabeth-boutique-ribbon-cutting-11969
END:VEVENT

END:VCALENDAR
