BEGIN:VCALENDAR
VERSION:2.0
PRODID:-//ChamberMaster//Event Calendar 2.0//EN
METHOD:PUBLISH
X-PUBLISHED-TTL:P3D
REFRESH-INTERVAL:P3D
CALSCALE:GREGORIAN
BEGIN:VEVENT
DTSTART:20171008T000000Z
DTEND:20171008T020000Z
X-MICROSOFT-CDO-ALLDAYEVENT:FALSE
SUMMARY:Spaghetti Feed Fundraiser
DESCRIPTION:All you can eat Spaghetti Feed Fundraiser for the Coastal Interpretive Center. $10 dollars each or $25 for a family.
X-ALT-DESC;FMTTYPE=text/html:<span style="color: rgb(75\, 79\, 86)\; font-family: Helvetica\, Arial\, sans-serif\; font-size: 14px\; background-color: rgb(255\, 255\, 255)\;">All you can eat Spaghetti Feed Fundraiser for the Coastal Interpretive Center. $10 dollars each or $25 for a family.</span>
LOCATION:VFW Post 8956 953 Trent Ct SE Ocean Shores\, WA
UID:e.26.8163
SEQUENCE:3
DTSTAMP:20260425T195341Z
URL:https://chamber.graysharbor.org/events/details/spaghetti-feed-fundraiser-8163
END:VEVENT

END:VCALENDAR
