BEGIN:VCALENDAR
VERSION:2.0
PRODID:-//ChamberMaster//Event Calendar 2.0//EN
METHOD:PUBLISH
X-PUBLISHED-TTL:P3D
REFRESH-INTERVAL:P3D
CALSCALE:GREGORIAN
BEGIN:VEVENT
DTSTART:20200219T063000Z
DTEND:20200219T073000Z
X-MICROSOFT-CDO-ALLDAYEVENT:FALSE
SUMMARY:Speed Bowls Ribbon Cutting
DESCRIPTION:Greater Grays Harbor will be organizing a ribbon cutting for Speed Bowls on February 18th at 10:30 am. This new restaurant is located at 204 Lincoln St. in Hoquiam.\n\n\n\nStick around after the ribbon cutting or and indulge in some delicious beef\, chicken or seafood pho or perhaps try out their teriyaki\, burgers and fried rice. You won't leave hungry after a visit to one of Hoquiam's newest businesses!
X-ALT-DESC;FMTTYPE=text/html:<div class="_63eu" style="box-sizing: border-box\; font-size: 14px\; max-height: 260px\; overflow: hidden\; padding: 12px\; word-wrap: break-word\; font-family: system-ui\, -apple-system\, BlinkMacSystemFont\, &quot\;.SFNSText-Regular&quot\;\, sans-serif\; caret-color: rgb(29\, 33\, 41)\; color: rgb(29\, 33\, 41)\;">\n<div class="_63ew" data-testid="event-permalink-details" style="white-space: pre-wrap\; font-family: inherit\;"><span style="font-size:14px\;">Greater Grays Harbor will be organizing a ribbon cutting for Speed Bowls on February 18th at 10:30 am. This new restaurant is located at 204 Lincoln St. in Hoquiam.<br />\n<br />\nStick around after the ribbon cutting or and indulge in some delicious beef\, chicken or seafood pho or perhaps try out their teriyaki\, burgers and fried rice. You won&#39\;t leave hungry after a visit to one of Hoquiam&#39\;s newest businesses!</span></div>\n</div>\n
LOCATION:Speed Bowls 204 Lincoln St. Hoquiam\, WA
UID:e.26.12369
SEQUENCE:3
DTSTAMP:20260424T012632Z
URL:https://chamber.graysharbor.org/events/details/speed-bowls-ribbon-cutting-12369
END:VEVENT

END:VCALENDAR
