BEGIN:VCALENDAR
VERSION:2.0
PRODID:-//ChamberMaster//Event Calendar 2.0//EN
METHOD:PUBLISH
X-PUBLISHED-TTL:P3D
REFRESH-INTERVAL:P3D
CALSCALE:GREGORIAN
BEGIN:VEVENT
DTSTART;VALUE=DATE:20190816
DTEND;VALUE=DATE:20190817
TRANSP:TRANSPARENT
X-MICROSOFT-CDO-ALLDAYEVENT:TRUE
SUMMARY:Sportsman Sprint Speedweek
DESCRIPTION:Sportsman Sprint Speedweek at the Grays Harbor Raceway\n\n\nGrandstands Open at 5:30pm   Racing at 7:00pm\n\n\nEvent Classes\n\nOutlaw Tuners\, PHRA Dwarf Cars\, Sportsman Sprint Cars
X-ALT-DESC;FMTTYPE=text/html:<h4 style="caret-color: rgb(51\, 51\, 51)\; color: rgb(51\, 51\, 51)\; font-family: Arial\, sans-serif\; background-color: rgb(255\, 255\, 255)\; margin: 0px 0px 5px\; padding: 0px\; border: 0px\; outline: 0px\; vertical-align: baseline\;"><span style="font-size:14px\;"><font color="#000000" face="arial"><span style="caret-color: rgb(255\, 255\, 255)\;">Sportsman Sprint Speedweek at the&nbsp\;Grays Harbor Raceway</span></font></span></h4>\n\n<div class="mdWrap" style="color: rgb(51\, 51\, 51)\; font-family: Arial\, sans-serif\; background-color: rgb(255\, 255\, 255)\; margin: 0px\; padding: 0px\; border: 0px\; outline: 0px\; vertical-align: baseline\; caret-color: rgb(255\, 255\, 255)\;">\n<p style="margin: 0px 0px 1em\; padding: 0px\; border: 0px\; outline: 0px\; font-style: inherit\; vertical-align: baseline\; line-height: 1.4\;"><span style="font-size:14px\;"><font color="#000000" face="arial">Grandstands Open at 5:30pm &bull\; Racing at 7:00pm</font></span></p>\n</div>\n\n<div class="schEventClassWrap" style="color: rgb(51\, 51\, 51)\; font-family: Arial\, sans-serif\; background-color: rgb(255\, 255\, 255)\; margin: 0px\; padding: 0px\; border: 0px\; outline: 0px\; vertical-align: baseline\; caret-color: rgb(255\, 255\, 255)\;"><span style="font-size:14px\;"><strong style="margin: 0px\; padding: 0px\; border: 0px\; outline: 0px\; font-style: inherit\; vertical-align: baseline\;"><font color="#000000" face="arial">Event Classes</font></strong></span>\n\n<div class="eventInfo" style="margin: 0px\; padding: 0px\; border: 0px\; outline: 0px\; font-style: inherit\; vertical-align: baseline\;"><span style="font-size:14px\;"><font color="#000000" face="arial">Outlaw Tuners\, PHRA Dwarf Cars\, Sportsman Sprint Cars</font></span></div>\n</div>\n
LOCATION:32 Elma McCleary Rd Elma\, Washington 98541
UID:e.26.12112
SEQUENCE:3
DTSTAMP:20260424T092357Z
URL:https://chamber.graysharbor.org/events/details/sportsman-sprint-speedweek-12112
END:VEVENT

END:VCALENDAR
