BEGIN:VCALENDAR
VERSION:2.0
PRODID:-//ChamberMaster//Event Calendar 2.0//EN
METHOD:PUBLISH
X-PUBLISHED-TTL:P3D
REFRESH-INTERVAL:P3D
CALSCALE:GREGORIAN
BEGIN:VEVENT
DTSTART:20170603T190000Z
DTEND:20170604T000000Z
X-MICROSOFT-CDO-ALLDAYEVENT:FALSE
SUMMARY:Spring at the Museum
DESCRIPTION:Spring at the Lake Quinault Museum\n\nVisit the museum\, enjoy music\, shop with local crafters and more!
X-ALT-DESC;FMTTYPE=text/html:Spring at the Lake Quinault Museum<br />\nVisit the museum\, enjoy music\, shop with local crafters and more!<br />\n&nbsp\;
LOCATION:Lake QUinault Museum South Shore Road Quinault\, WA
UID:e.26.7698
SEQUENCE:3
DTSTAMP:20260426T015214Z
URL:https://chamber.graysharbor.org/events/details/spring-at-the-museum-7698
END:VEVENT

END:VCALENDAR
