BEGIN:VCALENDAR
VERSION:2.0
PRODID:-//ChamberMaster//Event Calendar 2.0//EN
METHOD:PUBLISH
X-PUBLISHED-TTL:P3D
REFRESH-INTERVAL:P3D
CALSCALE:GREGORIAN
BEGIN:VEVENT
DTSTART:20180318T190000Z
DTEND:20180319T020000Z
X-MICROSOFT-CDO-ALLDAYEVENT:FALSE
SUMMARY:Spring Cleaning Beach Bums
DESCRIPTION:How many of you show up to the beach and see the garbage and just can't leave without doing your part to clean up? If this is you\, or you just want to do more for Mother Earth\, then I want you! Come down to the beach with gloves and bags and walk the beach picking up trash and meeting like minded people! If anyone of you are artists and want to take the garbage for future pieces feel free to. Artist Tess Felix has shown interest in taking some of our garbage and will reimburse the shipping costs! She only uses hard plastics\, not wrappers or water bottles\, or bags. She uses objects\, like toys\, small containers\, shards\, shapes\, even rusty metal\, and mylar balloons. Please share far and wide! Our planet needs us!
X-ALT-DESC;FMTTYPE=text/html:<span style="color: rgb(75\, 79\, 86)\; font-family: Helvetica\, Arial\, sans-serif\; font-size: 14px\; background-color: rgb(255\, 255\, 255)\;">How many of you show up to the beach and see the garbage and just can&#39\;t leave without doing your part to clean up? If this is you\, or you just want to do more for Mother Earth\, then I want you! Come down to the beach with gloves and bags and walk the beach picking up trash and meeting like minded people! If anyone of you are artists and want to take the garbage for future pieces feel free to. Artist Tess Felix has shown interest in taking some of our garbage and will reimburse the shipping costs! She only uses hard plastics\, not wrappers or water bottles\, or bags. She uses objects\, like toys\, small containers\, shards\, shapes\, even rusty metal\, and mylar balloons. Please share far and wide! Our planet needs us!</span>
LOCATION:Ocean Shores Beach
UID:e.26.9428
SEQUENCE:3
DTSTAMP:20260425T113138Z
URL:https://chamber.graysharbor.org/events/details/spring-cleaning-beach-bums-9428
END:VEVENT

END:VCALENDAR
