BEGIN:VCALENDAR
VERSION:2.0
PRODID:-//ChamberMaster//Event Calendar 2.0//EN
METHOD:PUBLISH
X-PUBLISHED-TTL:P3D
REFRESH-INTERVAL:P3D
CALSCALE:GREGORIAN
BEGIN:VEVENT
DTSTART:20181112T030000Z
DTEND:20181112T050000Z
X-MICROSOFT-CDO-ALLDAYEVENT:FALSE
SUMMARY:Spruce\, Foxglove & Motorships
DESCRIPTION:Join Polson Museum Director John Larson as he pairs selections from his Centennial Moment radio program with the museum's extensive WWI-era photo collection for a feature-length slide presentation.\n\n\n\nTickets are available at the Museum\, Crown Drug and Harbor Drug in Hoquiam and at City Drug in Aberdeen or at the door.
X-ALT-DESC;FMTTYPE=text/html:<span style="display: inline !important\; float: none\; background-color: transparent\; color: rgb(29\, 33\, 41)\; font-family: Helvetica\,Arial\,sans-serif\; font-size: 14px\; font-style: normal\; font-variant: normal\; font-weight: 400\; letter-spacing: normal\; orphans: 2\; text-align: left\; text-decoration: none\; text-indent: 0px\; text-transform: none\; -webkit-text-stroke-width: 0px\; white-space: normal\; word-spacing: 0px\;">Join Polson Museum Director John Larson as he pairs selections from his Centennial Moment radio program with the museum&rsquo\;s extensive WWI-era photo collection for a feature-length slide presentation.</span><br style="background-color: transparent\; color: rgb(29\, 33\, 41)\; font-family: Helvetica\,Arial\,sans-serif\; font-size: 14px\; font-style: normal\; font-variant: normal\; font-weight: 400\; letter-spacing: normal\; orphans: 2\; text-align: left\; text-decoration: none\; text-indent: 0px\; text-transform: none\; -webkit-text-stroke-width: 0px\; white-space: normal\; word-spacing: 0px\;" />\n<br style="background-color: transparent\; color: rgb(29\, 33\, 41)\; font-family: Helvetica\,Arial\,sans-serif\; font-size: 14px\; font-style: normal\; font-variant: normal\; font-weight: 400\; letter-spacing: normal\; orphans: 2\; text-align: left\; text-decoration: none\; text-indent: 0px\; text-transform: none\; -webkit-text-stroke-width: 0px\; white-space: normal\; word-spacing: 0px\;" />\n<span style="display: inline !important\; float: none\; background-color: transparent\; color: rgb(29\, 33\, 41)\; font-family: Helvetica\,Arial\,sans-serif\; font-size: 14px\; font-style: normal\; font-variant: normal\; font-weight: 400\; letter-spacing: normal\; orphans: 2\; text-align: left\; text-decoration: none\; text-indent: 0px\; text-transform: none\; -webkit-text-stroke-width: 0px\; white-space: normal\; word-spacing: 0px\;">Tickets are available at the Museum\, Crown Drug and Harbor Drug in Hoquiam and at City Drug in Aberdeen or at the door.</span>
LOCATION:7th Street Theatre Hoquiam\, WA
UID:e.26.11317
SEQUENCE:3
DTSTAMP:20260424T224431Z
URL:https://chamber.graysharbor.org/events/details/spruce-foxglove-motorships-11317
END:VEVENT

END:VCALENDAR
