BEGIN:VCALENDAR
VERSION:2.0
PRODID:-//ChamberMaster//Event Calendar 2.0//EN
METHOD:PUBLISH
X-PUBLISHED-TTL:P3D
REFRESH-INTERVAL:P3D
CALSCALE:GREGORIAN
BEGIN:VEVENT
DTSTART:20200314T163000Z
DTEND:20200314T190000Z
X-MICROSOFT-CDO-ALLDAYEVENT:FALSE
SUMMARY:St. Fatty's Day Fat Tire Bike Race
DESCRIPTION:A Fat Tire Bike Race that takes you from downtown Seabrook onto the beach for laps before returning to downtown Seabrook. Bring your Fat Tire Bike (or mountain bike\, FYI the course is 60% sand) and come pit your skills against other Fat Bikers! This race follows a similar format to a cross-country mountain bike race. The start and finish are removed from the beach laps on the sand\, with leaders determining the number of laps raced\, restricted by the overall time limit.
X-ALT-DESC;FMTTYPE=text/html:<span style="color:#000000\;"><span style="font-size:14px\;"><span style="font-family:arial\;"><span style="caret-color: rgb(84\, 102\, 108)\; letter-spacing: 0.47999998927116394px\;">A Fat Tire Bike Race that takes you from downtown Seabrook onto the beach for laps before returning to downtown Seabrook. Bring your Fat Tire Bike (or mountain bike\, FYI the course is 60% sand) and come pit your skills against other Fat Bikers! This race follows a similar format to a cross-country mountain bike race. The start and finish are removed from the beach laps on the sand\, with leaders determining the number of laps raced\, restricted by the overall time limit.&nbsp\;</span></span></span></span>
LOCATION:Seabrook Pacific Beach\, WA
UID:e.26.12431
SEQUENCE:3
DTSTAMP:20260424T060342Z
URL:https://chamber.graysharbor.org/events/details/st-fatty-s-day-fat-tire-bike-race-12431
END:VEVENT

END:VCALENDAR
