BEGIN:VCALENDAR
VERSION:2.0
PRODID:-//ChamberMaster//Event Calendar 2.0//EN
METHOD:PUBLISH
X-PUBLISHED-TTL:P3D
REFRESH-INTERVAL:P3D
CALSCALE:GREGORIAN
BEGIN:VEVENT
DTSTART:20170916T003000Z
DTEND:20170916T020000Z
X-MICROSOFT-CDO-ALLDAYEVENT:FALSE
SUMMARY:St. Mary's School Friends & Alumni Bingo Night
DESCRIPTION:Please join us for a special evening as we announce exciting news about the future of St. Mary School!
X-ALT-DESC;FMTTYPE=text/html:Please join us for a special evening as we announce exciting news about the future of St. Mary School!<br />\n&nbsp\;
LOCATION:St. Mary School 518 North H St. Aberdeen\, WA
UID:e.26.8212
SEQUENCE:3
DTSTAMP:20260425T214056Z
URL:https://chamber.graysharbor.org/events/details/st-mary-s-school-friends-alumni-bingo-night-8212
END:VEVENT

END:VCALENDAR
