BEGIN:VCALENDAR
VERSION:2.0
PRODID:-//ChamberMaster//Event Calendar 2.0//EN
METHOD:PUBLISH
X-PUBLISHED-TTL:P3D
REFRESH-INTERVAL:P3D
CALSCALE:GREGORIAN
BEGIN:VEVENT
DTSTART:20181006T160000Z
DTEND:20181006T220000Z
X-MICROSOFT-CDO-ALLDAYEVENT:FALSE
SUMMARY:St. Mary School Oktoberfest Holiday Bazaar 2018
DESCRIPTION:St. Mary School Okotberfest Holiday Bazaar 2018\nWe are accepting crafters and other vendors applications for our Oktoberfest 2018 Holiday Bazaar! Spaces are $25.00. The Bazzar will coincide with our Annual Oktoberfest Festivities which include stage entertainment\, Bingo\, Chistmas Corner\, the Bavarian Coffee Haus\, Great Bites Cafe and the Kids Carnival! We expect 300 (+) people to walk though our doors during the day\, giving good exposure to sales! With the addition of a crafter fair and bazaar\, we look forward to a great event!
X-ALT-DESC;FMTTYPE=text/html:<h1 class="_5gmx" data-testid="event-permalink-event-name" id="seo_h1_tag" style="color: rgb(29\, 33\, 41)\; font-size: 20px\; font-weight: normal\; margin: 0px 12px 0px 0px\; padding: 0px\; line-height: 28px\; font-family: Helvetica\, Arial\, sans-serif\; background-color: rgb(255\, 255\, 255)\;">St. Mary School Okotberfest Holiday Bazaar 2018</h1>\n<span style="color: rgb(29\, 33\, 41)\; font-family: Helvetica\, Arial\, sans-serif\; font-size: 14px\; background-color: rgb(255\, 255\, 255)\;">We are accepting crafters and other vendors applications for our Oktoberfest 2018 Holiday Bazaar! Spaces are $25.00. The Bazzar will coincide with our Annual Oktoberfest Festivities which include stage entertainment\, Bingo\, Chistmas Corner\, the Bavarian Coffee Haus\, Great Bites Cafe and the Kids Carnival! We expect 300 (+) people to walk though our doors during the day\, giving good exposure to sales! With the addition of a crafter fair and bazaar\, we look forward to a great event!</span>
LOCATION:St. Mary School Aberdeen\, WA
UID:e.26.11166
SEQUENCE:3
DTSTAMP:20260425T002308Z
URL:https://chamber.graysharbor.org/events/details/st-mary-school-oktoberfest-holiday-bazaar-2018-11166
END:VEVENT

END:VCALENDAR
