BEGIN:VCALENDAR
VERSION:2.0
PRODID:-//ChamberMaster//Event Calendar 2.0//EN
METHOD:PUBLISH
X-PUBLISHED-TTL:P3D
REFRESH-INTERVAL:P3D
CALSCALE:GREGORIAN
BEGIN:VEVENT
DTSTART:20180317T220000Z
DTEND:20180318T020000Z
X-MICROSOFT-CDO-ALLDAYEVENT:FALSE
SUMMARY:St. Patrick's Day Art Show hosted by North Coast Montessori
DESCRIPTION:EXHIBITION: North Coast Montessori is hosting its first Annual St. Patrick's Day Art Show at Seabrook's Town Hall to raise funds for the North Coast Montessori Scholarship Fund. This fund is specifically raise funds to pay for full and partial scholarships of children\, Grade K-8\, to attend North Coast Montessori. 30% of the proceeds of this event will be donated to the fund with the goal of funding 1-2 students for the 2018-19 School Year.\n\n\n\nARTISTS: Open to artists\, working in various media\, living or working in Grays Harbor County\, WA\, of all ages. Student art will be sold as well.\n\n\n\nMEDIA: Original work created by the artist in the last five (5) years in a variety of media\, Artwork may be any of the following:\n\n\n\n Painting: Watercolor\, goauche\, oil\, acrylic.\n\n\n\nWorks on Paper: Drawing\, printmaking\, computer generated art\; chalk\, charcoal\, pastels\, pencil\, wax crayons\; inks and washes applied by pen or brush.\n\n Photography: Color or black and white.\n\n\n\n Mixed Media: 2- and 3-dimensional works incorporating more than one type of material in their production\, including assemblage and collage.\n\n\n\n Sculpture: Including wood\, metal\, stone\, glass\, mosaics\, ceramics\, fiber\, and recycled materials.\n\n\n\nENTRY IMAGES: Submit digital images (photos) of the actual artwork(s) to be considered for acceptance into the exhibition. An artist may submit up to 3 works. Only one submission (3 pieces) per artist. Submissions should be high quality (300 dpi) jpeg's\, maximum 2 MB per image. Remember to put artist's LAST NAME and ARTWORK TITLE when saving image files to submit.\n\n\n\nARTIST BIO: Submit an artist's biography\, an artist's statement\, and an artist's website URL (if possible) with the images and entry form for marketing purposes.\n\n\n\nRIGHTS: Copyright and all other rights to the artwork will remain with the artist. Should NCM use artists' images for publications\, marketing\, and promotional purposes\,. Artist credit will always accompany artist's image.\n\n\n\nENTRY FEE: No entry fee.\n\n\n\nENTRY DEADLINE: Feb\, 13\, 2018 (by 11:59 p.m. PT)\n\n\n\nNOTIFICATION: Feb 14 2018   Artists will be notified of acceptance by email or phone.\n\n\n\nEVENT DETAILS: \n\nArtists will be assigned a complimentary 10x10 or appropriate booth/wall space in the Seabrook\, WA Town Hall during the St. Patrick's Day Art Show on March 17\, 2018 from 3:00   7:00pm. Artists should supply their own display racks & booth structure\, if possible. If unable to do so\, Artist will communicate with NCM to find a suitable method of displaying my art.\n\n\n\nArtist set up of the booth or display area is scheduled between 9am   2pm on Saturday\, March 17\, prior to the show.\n\n\n\nSALES: Artists have the option to display sold works for the duration of the show. A 30% commission on works sold during the show will be retained by North Coast Montessori Scholarship Fund. Washington sales tax will be collected by the gallery. Artists will receive payment within 7 days of close of show.\n\n\n\nCLOSE OF EXHIBITION: March 17\, 2018. Unsold artwork at the show should be packed up and removed from the Town Hall at the close of the show.
X-ALT-DESC;FMTTYPE=text/html:<span style="color: rgb(75\, 79\, 86)\; font-family: Helvetica\, Arial\, sans-serif\; font-size: 14px\; background-color: rgb(255\, 255\, 255)\;">EXHIBITION: North Coast Montessori is hosting its first Annual St. Patrick&rsquo\;s Day Art Show at Seabrook&rsquo\;s Town Hall to raise funds for the North Coast Montessori Scholarship Fund. This fund is specifically raise funds to pay for full and partial scholarships of children\, Grade K-8\, to attend North Coast Montessori. 30% of the proceeds of this event will be donated to the fund with the goal of funding 1-2 students for the 2018-19 School Year.</span><br style="color: rgb(75\, 79\, 86)\; font-family: Helvetica\, Arial\, sans-serif\; font-size: 14px\; background-color: rgb(255\, 255\, 255)\;" />\n<br style="color: rgb(75\, 79\, 86)\; font-family: Helvetica\, Arial\, sans-serif\; font-size: 14px\; background-color: rgb(255\, 255\, 255)\;" />\n<span style="color: rgb(75\, 79\, 86)\; font-family: Helvetica\, Arial\, sans-serif\; font-size: 14px\; background-color: rgb(255\, 255\, 255)\;">ARTISTS: Open to artists\, working in various media\, living or working in Grays Harbor County\, WA\, of all ages. Student art will be sold as well.</span><br style="color: rgb(75\, 79\, 86)\; font-family: Helvetica\, Arial\, sans-serif\; font-size: 14px\; background-color: rgb(255\, 255\, 255)\;" />\n<br style="color: rgb(75\, 79\, 86)\; font-family: Helvetica\, Arial\, sans-serif\; font-size: 14px\; background-color: rgb(255\, 255\, 255)\;" />\n<span style="color: rgb(75\, 79\, 86)\; font-family: Helvetica\, Arial\, sans-serif\; font-size: 14px\; background-color: rgb(255\, 255\, 255)\;">MEDIA: Original work created by the artist in the last five (5) years in a variety of media\, Artwork may be any of the f</span><span class="text_exposed_show" style="display: inline\; font-family: Helvetica\, Arial\, sans-serif\; color: rgb(75\, 79\, 86)\; font-size: 14px\; background-color: rgb(255\, 255\, 255)\;">ollowing:<br />\n<br />\n&middot\;Painting: Watercolor\, goauche\, oil\, acrylic.<br />\n<br />\nWorks on Paper: Drawing\, printmaking\, computer generated art\; chalk\, charcoal\, pastels\, pencil\, wax crayons\; inks and washes applied by pen or brush.<br />\n&middot\;Photography: Color or black and white.<br />\n<br />\n&middot\;Mixed Media: 2- and 3-dimensional works incorporating more than one type of material in their production\, including assemblage and collage.<br />\n<br />\n&middot\;Sculpture: Including wood\, metal\, stone\, glass\, mosaics\, ceramics\, fiber\, and recycled materials.<br />\n<br />\nENTRY IMAGES: Submit digital images (photos) of the actual artwork(s) to be considered for acceptance into the exhibition. An artist may submit up to 3 works. Only one submission (3 pieces) per artist. Submissions should be high quality (300 dpi) jpeg&rsquo\;s\, maximum 2 MB per image. Remember to put artist&rsquo\;s LAST NAME and ARTWORK TITLE when saving image files to submit.<br />\n<br />\nARTIST BIO: Submit an artist&rsquo\;s biography\, an artist&rsquo\;s statement\, and an artist&rsquo\;s website URL (if possible) with the images and entry form for marketing purposes.<br />\n<br />\nRIGHTS: Copyright and all other rights to the artwork will remain with the artist. Should NCM use artists&rsquo\; images for publications\, marketing\, and promotional purposes\,. Artist credit will always accompany artist&rsquo\;s image.<br />\n<br />\nENTRY FEE: No entry fee.<br />\n<br />\nENTRY DEADLINE: Feb\, 13\, 2018 (by 11:59 p.m. PT)<br />\n<br />\nNOTIFICATION: Feb 14 2018 &ndash\; Artists will be notified of acceptance by email or phone.<br />\n<br />\nEVENT DETAILS:&nbsp\;<br />\nArtists will be assigned a complimentary 10x10 or appropriate booth/wall space in the Seabrook\, WA Town Hall during the St. Patrick&rsquo\;s Day Art Show on March 17\, 2018 from 3:00 &ndash\; 7:00pm. Artists should supply their own display racks &amp\; booth structure\, if possible. If unable to do so\, Artist will communicate with NCM to find a suitable method of displaying my art.<br />\n<br />\nArtist set up of the booth or display area is scheduled between 9am &ndash\; 2pm on Saturday\, March 17\, prior to the show.<br />\n<br />\nSALES: Artists have the option to display sold works for the duration of the show. A 30% commission on works sold during the show will be retained by North Coast Montessori Scholarship Fund. Washington sales tax will be collected by the gallery. Artists will receive payment within 7 days of close of show.<br />\n<br />\nCLOSE OF EXHIBITION: March 17\, 2018. Unsold artwork at the show should be packed up and removed from the Town Hall at the close of the show.</span>
LOCATION:Seabrook Washington Pacific Beach
UID:e.26.9494
SEQUENCE:3
DTSTAMP:20260425T115758Z
URL:https://chamber.graysharbor.org/events/details/st-patrick-s-day-art-show-hosted-by-north-coast-montessori-9494
END:VEVENT

END:VCALENDAR
