BEGIN:VCALENDAR
VERSION:2.0
PRODID:-//ChamberMaster//Event Calendar 2.0//EN
METHOD:PUBLISH
X-PUBLISHED-TTL:P3D
REFRESH-INTERVAL:P3D
CALSCALE:GREGORIAN
BEGIN:VEVENT
DTSTART:20190317T190000Z
DTEND:20190318T000000Z
X-MICROSOFT-CDO-ALLDAYEVENT:FALSE
SUMMARY:St Patrick's Day Block Party
DESCRIPTION:Join us at the Shoppes at Riverside For a Family Friendly St Patrick's Day block party. Featuring Music From The Bold Doherty Zach Daugherty From 1:00 to 2:30 Irish Dancing With Miss Grays Harbor Contestant Kylie Shepard Irish Food at Sgt Brand's BBQ To include: Corned Beef Mini Shepherd's pie Soda Bread Green Velvet Cake Irish Punch And More... As well as their regular stunning menu Games Throughout the day 1:00 Heave Ho ages 11+ Hunt for the Leprechauns' Gold Ages 3-10 2:00 Musical Shamrocks 4:00 Irish Jig Dance off Kylie will teach you a few steps and then dance until you drop. And a bouncy house behind the center stage Provided by Bounce About NW
X-ALT-DESC;FMTTYPE=text/html:Join us at the Shoppes at Riverside For a Family Friendly St Patrick&rsquo\;s Day block party. Featuring Music From The Bold Doherty Zach Daugherty From 1:00 to 2:30 Irish Dancing With Miss Grays Harbor Contestant Kylie Shepard Irish Food at Sgt Brand&rsquo\;s BBQ To include: Corned Beef Mini Shepherd&rsquo\;s pie Soda Bread Green Velvet Cake Irish Punch And More... As well as their regular stunning menu Games Throughout the day 1:00 Heave Ho ages 11+ Hunt for the Leprechauns&#39\; Gold Ages 3-10 2:00 Musical Shamrocks 4:00 Irish Jig Dance off Kylie will teach you a few steps and then dance until you drop. And a bouncy house behind the center stage Provided by Bounce About NW
LOCATION:Shoppes at Riverside food court and center stage.
UID:e.26.11685
SEQUENCE:3
DTSTAMP:20260424T163257Z
URL:https://chamber.graysharbor.org/events/details/st-patrick-s-day-block-party-11685
END:VEVENT

END:VCALENDAR
