BEGIN:VCALENDAR
VERSION:2.0
PRODID:-//ChamberMaster//Event Calendar 2.0//EN
METHOD:PUBLISH
X-PUBLISHED-TTL:P3D
REFRESH-INTERVAL:P3D
CALSCALE:GREGORIAN
BEGIN:VEVENT
DTSTART:20190317T233000Z
DTEND:20190318T013000Z
X-MICROSOFT-CDO-ALLDAYEVENT:FALSE
SUMMARY:St. Patrick's Dinner
DESCRIPTION:St. Patrick's Dinner\n\nSunday March 17th  4:30 to 6:30\n\nCorned beef and cabbage\, potatoes and carrots\, Irish Soda Bread\, spinach and strawberry salad\, beverage and dessert.\n\nProceeds support Mission Work
X-ALT-DESC;FMTTYPE=text/html:<span style="font-size:14px\;"><u><strong><span style="caret-color: rgb(38\, 38\, 38)\; color: rgb(38\, 38\, 38)\; font-family: &quot\;Source Sans Pro&quot\;\, sans-serif\;">St. Patrick&#39\;s Dinner</span></strong></u><br style="line-height: 1.4em\; caret-color: rgb(38\, 38\, 38)\; color: rgb(38\, 38\, 38)\; font-family: &quot\;Source Sans Pro&quot\;\, sans-serif\; font-size: 12px\;" />\n<span style="caret-color: rgb(38\, 38\, 38)\; color: rgb(38\, 38\, 38)\; font-family: &quot\;Source Sans Pro&quot\;\, sans-serif\;">Sunday March 17th &nbsp\;4:30 to 6:30</span><br style="line-height: 1.4em\; caret-color: rgb(38\, 38\, 38)\; color: rgb(38\, 38\, 38)\; font-family: &quot\;Source Sans Pro&quot\;\, sans-serif\; font-size: 12px\;" />\n<span style="caret-color: rgb(38\, 38\, 38)\; color: rgb(38\, 38\, 38)\; font-family: &quot\;Source Sans Pro&quot\;\, sans-serif\;">Corned beef and cabbage\, p</span><span style="caret-color: rgb(38\, 38\, 38)\; color: rgb(38\, 38\, 38)\; font-family: &quot\;Source Sans Pro&quot\;\, sans-serif\;">otatoes and carrots\,&nbsp\;</span><span style="caret-color: rgb(38\, 38\, 38)\; color: rgb(38\, 38\, 38)\; font-family: &quot\;Source Sans Pro&quot\;\, sans-serif\;">Irish Soda Bread\, s</span><span style="caret-color: rgb(38\, 38\, 38)\; color: rgb(38\, 38\, 38)\; font-family: &quot\;Source Sans Pro&quot\;\, sans-serif\;">pinach and strawberry salad\, b</span><span style="caret-color: rgb(38\, 38\, 38)\; color: rgb(38\, 38\, 38)\; font-family: &quot\;Source Sans Pro&quot\;\, sans-serif\;">everage and dessert.</span><br style="line-height: 1.4em\; caret-color: rgb(38\, 38\, 38)\; color: rgb(38\, 38\, 38)\; font-family: &quot\;Source Sans Pro&quot\;\, sans-serif\; font-size: 12px\;" />\n<span style="caret-color: rgb(38\, 38\, 38)\; color: rgb(38\, 38\, 38)\; font-family: &quot\;Source Sans Pro&quot\;\, sans-serif\;">Proceeds support Mission Work</span></span>
LOCATION:Elma United Methodist Church 502 W. Young St. Elma\, WA. 98541
UID:e.26.11857
SEQUENCE:3
DTSTAMP:20260424T163128Z
URL:https://chamber.graysharbor.org/events/details/st-patrick-s-dinner-11857
END:VEVENT

END:VCALENDAR
