BEGIN:VCALENDAR
VERSION:2.0
PRODID:-//ChamberMaster//Event Calendar 2.0//EN
METHOD:PUBLISH
X-PUBLISHED-TTL:P3D
REFRESH-INTERVAL:P3D
CALSCALE:GREGORIAN
BEGIN:VEVENT
DTSTART:20180823T220000Z
DTEND:20180824T010000Z
X-MICROSOFT-CDO-ALLDAYEVENT:FALSE
SUMMARY:Star Wars Creator Hosts Free Videos
DESCRIPTION:Colin Cantwell is the original concept artist and modeler for all things that flew in the first Star Wars movie\, A New Hope. His designs include the X-Wing\, TIE Fighter\, Death Star\, Star Destroyer\, original Millennium Falcon\, Y-Wing and others. Colin will give a free presentation featuring exclusive videos describing his interaction with George Lucas and his work on Star Wars. Also featured will be an audience choice of videos showing some of his other iconic projects including his work on 2001\, A Space Odyssey and War Games\, as well as his being the Hal 9000 Computer that fed Walter Cronkite the progress of the Apollo 11 moon landing as Walter was broadcasting on live TV in 1969. This will be followed by an opportunity for fans to meet Colin\, ask questions and share stories. Autographs will be on sale for $25 and include a free 8x12 print of either his original 1974 Star Wars concept art or his 1975 photos of the first Star Wars models. You can learn more about Colin on social media and at https://www.colincantwell.com
X-ALT-DESC;FMTTYPE=text/html:Colin Cantwell is the original concept artist and modeler for all things that flew in the first Star Wars movie\, A New Hope. His designs include the X-Wing\, TIE Fighter\, Death Star\, Star Destroyer\, original Millennium Falcon\, Y-Wing and others. Colin will give a free presentation featuring exclusive videos describing his interaction with George Lucas and his work on Star Wars. Also featured will be an audience choice of videos showing some of his other iconic projects including his work on 2001\, A Space Odyssey and War Games\, as well as his being the Hal 9000 Computer that fed Walter Cronkite the progress of the Apollo 11 moon landing as Walter was broadcasting on live TV in 1969. This will be followed by an opportunity for fans to meet Colin\, ask questions and share stories. Autographs will be on sale for $25 and include a free 8x12 print of either his original 1974 Star Wars concept art or his 1975 photos of the first Star Wars models. You can learn more about Colin on social media and at https://www.colincantwell.com
LOCATION:Sucher and Son Star Wars Shop 413 E Wishkah St\, Aberdeen\, WA 98520
UID:e.26.11210
SEQUENCE:3
DTSTAMP:20260425T034522Z
URL:https://chamber.graysharbor.org/events/details/star-wars-creator-hosts-free-videos-11210
END:VEVENT

END:VCALENDAR
