BEGIN:VCALENDAR
VERSION:2.0
PRODID:-//ChamberMaster//Event Calendar 2.0//EN
METHOD:PUBLISH
X-PUBLISHED-TTL:P3D
REFRESH-INTERVAL:P3D
CALSCALE:GREGORIAN
BEGIN:VEVENT
DTSTART:20190824T023000Z
DTEND:20190825T210000Z
X-MICROSOFT-CDO-ALLDAYEVENT:FALSE
SUMMARY:Star Wars: Episode IV A New Hope
DESCRIPTION:Enjoy one of the greatest movies of all time at the historic 7th St. Theatre in Hoquiam!\n\nNineteen years after the formation of the Empire\, Luke Skywalker is thrust into the struggle of the Rebel Alliance when he meets Obi-Wan Kenobi\, who has lived for years in seclusion on the desert planet of Tatooine. Obi-Wan begins Luke's Jedi training as Luke joins him on a daring mission to rescue the beautiful Rebel leader Princess Leia from the clutches of the evil Empire.\n\n\n\nAnd after Obi-Wan sacrifices himself in a lightsaber duel with his former apprentice\, Darth Vader\, Luke proves that the Force is with him by destroying the Empire's dreaded Death Star.
X-ALT-DESC;FMTTYPE=text/html:<span style="font-size:14px\;"><span style="font-family:arial\;"><span style="text-align: left\; color: rgb(29\, 33\, 41)\; text-transform: none\; text-indent: 0px\; letter-spacing: normal\; font-style: normal\; font-variant: normal\; font-weight: 400\; text-decoration: none\; word-spacing: 0px\; display: inline !important\; white-space: pre-wrap\; orphans: 2\; float: none\; -webkit-text-stroke-width: 0px\; background-color: transparent\;"><font color="#001000">Enjoy one of the greatest movies of all time at the historic 7th St. Theatre in Hoquiam!</font><br />\nNineteen years after the formation of the Empire\, Luke Skywalker is thrust into the struggle of the Rebel Alliance when he meets Obi-Wan Kenobi\, who has lived for years in seclusion on the desert planet of Tatooine. Obi-Wan begins Luke&rsquo\;s Jedi training as Luke joins him on a daring mission to rescue the beautiful Rebel leader Princess Leia from the clutches of the evil Empire.</span><br style="background-color: transparent\; color: rgb(29\, 33\, 41)\; font-family: Helvetica\,Arial\,sans-serif\; font-size: 14px\; font-style: normal\; font-variant: normal\; font-weight: 400\; letter-spacing: normal\; orphans: 2\; text-align: left\; text-decoration: none\; text-indent: 0px\; text-transform: none\; -webkit-text-stroke-width: 0px\; white-space: pre-wrap\; word-spacing: 0px\;" />\n<br style="background-color: transparent\; color: rgb(29\, 33\, 41)\; font-family: Helvetica\,Arial\,sans-serif\; font-size: 14px\; font-style: normal\; font-variant: normal\; font-weight: 400\; letter-spacing: normal\; orphans: 2\; text-align: left\; text-decoration: none\; text-indent: 0px\; text-transform: none\; -webkit-text-stroke-width: 0px\; white-space: pre-wrap\; word-spacing: 0px\;" />\n<span style="text-align: left\; color: rgb(29\, 33\, 41)\; text-transform: none\; text-indent: 0px\; letter-spacing: normal\; font-style: normal\; font-variant: normal\; font-weight: 400\; text-decoration: none\; word-spacing: 0px\; display: inline !important\; white-space: pre-wrap\; orphans: 2\; float: none\; -webkit-text-stroke-width: 0px\; background-color: transparent\;">And after Obi-Wan sacrifices himself in a lightsaber duel with his former apprentice\, Darth Vader\, Luke proves that the Force is with him by destroying the Empire&rsquo\;s dreaded Death Star.</span></span></span>
LOCATION:7th Street Theatre 313 7th St\, Hoquiam\, Washington 98550
UID:e.26.12174
SEQUENCE:3
DTSTAMP:20260424T104431Z
URL:https://chamber.graysharbor.org/events/details/star-wars-episode-iv-a-new-hope-12174
END:VEVENT

END:VCALENDAR
