BEGIN:VCALENDAR
VERSION:2.0
PRODID:-//ChamberMaster//Event Calendar 2.0//EN
METHOD:PUBLISH
X-PUBLISHED-TTL:P3D
REFRESH-INTERVAL:P3D
CALSCALE:GREGORIAN
BEGIN:VEVENT
DTSTART:20180804T210000Z
DTEND:20180804T223000Z
X-MICROSOFT-CDO-ALLDAYEVENT:FALSE
SUMMARY:Star Wars Party
DESCRIPTION:A short time from now\, in a library near you there will be a party to celebrate all things Star Wars! Whether you prefer the Dark Side or the Light\, there will be snacks\, activities\, and crafts for everyone. Dressing up is encouraged! Sponsored by the Friends of the Hoquiam Timberland Library. This event is part of the Summer Library Program\, a Timberland Regional Library district-wide program.\n\n\n\nFor children and families.
X-ALT-DESC;FMTTYPE=text/html:<span style="color: rgb(29\, 33\, 41)\; font-family: Helvetica\, Arial\, sans-serif\; font-size: 14px\; background-color: rgb(255\, 255\, 255)\;">A short time from now\, in a library near you&hellip\;there will be a party to celebrate all things Star Wars! Whether you prefer the Dark Side or the Light\, there will be snacks\, activities\, and crafts for everyone. Dressing up is encouraged! Sponsored by the Friends of the Hoquiam Timberland Library. This event is part of the Summer Library Program\, a Timberland Regional Library district-wide program.</span><br style="color: rgb(29\, 33\, 41)\; font-family: Helvetica\, Arial\, sans-serif\; font-size: 14px\; background-color: rgb(255\, 255\, 255)\;" />\n<br style="color: rgb(29\, 33\, 41)\; font-family: Helvetica\, Arial\, sans-serif\; font-size: 14px\; background-color: rgb(255\, 255\, 255)\;" />\n<span style="color: rgb(29\, 33\, 41)\; font-family: Helvetica\, Arial\, sans-serif\; font-size: 14px\; background-color: rgb(255\, 255\, 255)\;">For children and families.</span>
LOCATION:Hoquiam Timberland Library
UID:e.26.10694
SEQUENCE:3
DTSTAMP:20260425T032744Z
URL:https://chamber.graysharbor.org/events/details/star-wars-party-10694
END:VEVENT

END:VCALENDAR
