BEGIN:VCALENDAR
VERSION:2.0
PRODID:-//ChamberMaster//Event Calendar 2.0//EN
METHOD:PUBLISH
X-PUBLISHED-TTL:P3D
REFRESH-INTERVAL:P3D
CALSCALE:GREGORIAN
BEGIN:VEVENT
DTSTART:20181021T170000Z
DTEND:20181022T000000Z
X-MICROSOFT-CDO-ALLDAYEVENT:FALSE
SUMMARY:Starshine Gathering - Honoring Our Ancestors
DESCRIPTION:The theme for the October Starshine Gathering is Honororing Our Ancestors\n\nDonation Drive for this Month is Socks\, Gloves\, Hats & Scarves for our local homeless.\n\nPlease join us at our FREE Quarterly Gathering as we celebrate all aspects of this Sacred time of the year. The Pagan New Year\, the Thinning of the Veil and a time to communicate with our loved ones who still have stories & Wisdom to share.\n\nLet us know if you would like to be a Speaker\, Vendor\, Divination or Healing Practitioner\, Featured Artist or Performer\, or Volunteer\n\nEmbrace & nourish your creative self in a loving & inclusive community.
X-ALT-DESC;FMTTYPE=text/html:<span style="color: rgb(29\, 33\, 41)\; font-family: Helvetica\, Arial\, sans-serif\; font-size: 14px\; background-color: rgb(255\, 255\, 255)\;">The theme for the October Starshine Gathering is Honororing Our Ancestors</span><br style="color: rgb(29\, 33\, 41)\; font-family: Helvetica\, Arial\, sans-serif\; font-size: 14px\; background-color: rgb(255\, 255\, 255)\;" />\n<span style="color: rgb(29\, 33\, 41)\; font-family: Helvetica\, Arial\, sans-serif\; font-size: 14px\; background-color: rgb(255\, 255\, 255)\;">Donation Drive for this Month is Socks\, Gloves\, Hats &amp\; Scarves for our local homeless.</span><br style="color: rgb(29\, 33\, 41)\; font-family: Helvetica\, Arial\, sans-serif\; font-size: 14px\; background-color: rgb(255\, 255\, 255)\;" />\n<span style="color: rgb(29\, 33\, 41)\; font-family: Helvetica\, Arial\, sans-serif\; font-size: 14px\; background-color: rgb(255\, 255\, 255)\;">Please join us at our FREE Quarterly Gathering as we celebrate all aspects of this Sacred time of the year. The Pagan New Year\, the Thinning of the Veil and a time to communicate with our loved ones who still have stories &amp\; Wisdom to share.</span><br style="color: rgb(29\, 33\, 41)\; font-family: Helvetica\, Arial\, sans-serif\; font-size: 14px\; background-color: rgb(255\, 255\, 255)\;" />\n<span style="color: rgb(29\, 33\, 41)\; font-family: Helvetica\, Arial\, sans-serif\; font-size: 14px\; background-color: rgb(255\, 255\, 255)\;">Let us know if you would like to be a Speaker\, Vendor\, Divination or Healing Practitioner\, Featured Artist or Performer\, or Volunteer</span><br style="color: rgb(29\, 33\, 41)\; font-family: Helvetica\, Arial\, sans-serif\; font-size: 14px\; background-color: rgb(255\, 255\, 255)\;" />\n<span style="color: rgb(29\, 33\, 41)\; font-family: Helvetica\, Arial\, sans-serif\; font-size: 14px\; background-color: rgb(255\, 255\, 255)\;">Embrace &amp\; nourish your creative self in a loving &amp\; inclusive community.</span>
LOCATION:Shoppes at Riverside Aberdeen\, WA
UID:e.26.11208
SEQUENCE:3
DTSTAMP:20260425T002053Z
URL:https://chamber.graysharbor.org/events/details/starshine-gathering-honoring-our-ancestors-11208
END:VEVENT

END:VCALENDAR
