BEGIN:VCALENDAR
VERSION:2.0
PRODID:-//ChamberMaster//Event Calendar 2.0//EN
METHOD:PUBLISH
X-PUBLISHED-TTL:P3D
REFRESH-INTERVAL:P3D
CALSCALE:GREGORIAN
BEGIN:VEVENT
DTSTART;VALUE=DATE:20170602
DTEND;VALUE=DATE:20170603
TRANSP:TRANSPARENT
X-MICROSOFT-CDO-ALLDAYEVENT:TRUE
SUMMARY:State of Grays Harbor
DESCRIPTION:Join Greater Grays Harbor\, Inc. as we discuss the state of our local economy and present the findings from the 2017 Grays Harbor Economic Vitality Index   a report showing trend data and highlights of key economic sectors and activity within Grays Harbor County. This year our keynote speaker will be Kristofer Johnson\, President & CEO of the Association of Washington Business (AWB). Reserve your seat by Thursday\, May 25th.\n\n\n\nGreater Grays Harbor\, Inc. would like to thank this year's sponsor of the 2017 State of Grays Harbor: Pacific Mountain Workforce Development Council and the sponsors of the 2017 Economic Vitality Index: Twin Star Credit Union and Quinault Beach Resort and Casino.
X-ALT-DESC;FMTTYPE=text/html:Join Greater Grays Harbor\, Inc. as we discuss the state of our local economy and present the findings from the 2017 Grays Harbor Economic Vitality Index &ndash\; a report showing trend data and highlights of key economic sectors and activity within Grays Harbor County. This year our keynote speaker will be Kristofer Johnson\, President &amp\; CEO of the Association of Washington Business (AWB). Reserve your seat by <em>Thursday\, May 25th</em>.<br />\n<br />\nGreater Grays Harbor\, Inc. would like to thank this year&rsquo\;s sponsor of the 2017 State of Grays Harbor: <em><u>Pacific Mountain Workforce Development Council</u> </em>and the sponsors of the 2017 Economic Vitality Index: <em><u>Twin Star Credit Union</u> </em>and<em> <u>Quinault Beach Resort and Casino</u>.</em>
LOCATION:Rotary Log Pavilion 1401 Sargent Blvd Aberdeen\, WA
UID:e.26.7618
SEQUENCE:3
DTSTAMP:20260426T015443Z
URL:https://chamber.graysharbor.org/events/details/state-of-grays-harbor-7618
END:VEVENT

END:VCALENDAR
