BEGIN:VCALENDAR
VERSION:2.0
PRODID:-//ChamberMaster//Event Calendar 2.0//EN
METHOD:PUBLISH
X-PUBLISHED-TTL:P3D
REFRESH-INTERVAL:P3D
CALSCALE:GREGORIAN
BEGIN:VEVENT
DTSTART:20190711T210000Z
DTEND:20190711T220000Z
X-MICROSOFT-CDO-ALLDAYEVENT:FALSE
SUMMARY:STEAM Explorers: Space Engineers
DESCRIPTION:For Children and Families:\n\n\n\nExplore activities that develop science\, technology\, engineering\, art\, and math skills. This event is part of the Summer Library Program\, a Timberland Regional Library district-wide program.
X-ALT-DESC;FMTTYPE=text/html:<span style="caret-color: rgb(29\, 33\, 41)\; color: rgb(29\, 33\, 41)\; font-family: system-ui\, -apple-system\, BlinkMacSystemFont\, &quot\;.SFNSText-Regular&quot\;\, sans-serif\; font-size: 14px\; white-space: pre-wrap\;">For Children and Families:</span><br style="caret-color: rgb(29\, 33\, 41)\; color: rgb(29\, 33\, 41)\; font-family: system-ui\, -apple-system\, BlinkMacSystemFont\, &quot\;.SFNSText-Regular&quot\;\, sans-serif\; font-size: 14px\; white-space: pre-wrap\;" />\n<br style="caret-color: rgb(29\, 33\, 41)\; color: rgb(29\, 33\, 41)\; font-family: system-ui\, -apple-system\, BlinkMacSystemFont\, &quot\;.SFNSText-Regular&quot\;\, sans-serif\; font-size: 14px\; white-space: pre-wrap\;" />\n<span style="caret-color: rgb(29\, 33\, 41)\; color: rgb(29\, 33\, 41)\; font-family: system-ui\, -apple-system\, BlinkMacSystemFont\, &quot\;.SFNSText-Regular&quot\;\, sans-serif\; font-size: 14px\; white-space: pre-wrap\;">Explore activities that develop science\, technology\, engineering\, art\, and math skills. This event is part of the Summer Library Program\, a Timberland Regional Library district-wide program.</span>
LOCATION:pin Hoquiam Timberland Library 420 7th St\, Hoquiam\, Washington 98550
UID:e.26.12005
SEQUENCE:3
DTSTAMP:20260424T103951Z
URL:https://chamber.graysharbor.org/events/details/steam-explorers-space-engineers-12005
END:VEVENT

END:VCALENDAR
