BEGIN:VCALENDAR
VERSION:2.0
PRODID:-//ChamberMaster//Event Calendar 2.0//EN
METHOD:PUBLISH
X-PUBLISHED-TTL:P3D
REFRESH-INTERVAL:P3D
CALSCALE:GREGORIAN
BEGIN:VEVENT
DTSTART:20190711T000000Z
DTEND:20190711T020000Z
X-MICROSOFT-CDO-ALLDAYEVENT:FALSE
SUMMARY:STEPS: GHC Open House
DESCRIPTION:Have you been thinking about going to college and have numerous questions that you just can't find the answers to or can't find the time due to your schedule? If so\, we have the perfect opportunity for you! Grays Harbor College presents the STEPS (Steps Toward Education Promotes Success) program! Come join us on the second Wednesday of the month for a free evening of one-on-one help to break down barriers and answer questions. Light refreshments will be served and children are welcome to attend with an adult. Have you been asking yourself any of the following questions?   What are the first steps to go to college?   How can I afford to attend?   Am I ready for college?   What programs are offered?   Am I ready to take the placement test?   I've already started college\, how do I finish my degree or program? STEPS: GHC Open House Information on the following topics\, as well as any others you are interested in\, will be available during the open house.   Applying to GHC   Financial Aid   Scholarships   Managing Employment\, Family\, and School   Vocational & Technology Programs   Associate & Bachelor Degrees   Running Start   Returning to College   and other any other topics you may have questions about This is a free event that anyone is welcome to attend! You can show up anytime during the 2-hour event.
X-ALT-DESC;FMTTYPE=text/html:Have you been thinking about going to college and have numerous questions that you just can&#39\;t find the answers to or can&#39\;t find the time due to your schedule? If so\, we have the perfect opportunity for you! Grays Harbor College presents the STEPS (Steps Toward Education Promotes Success) program! Come join us on the second Wednesday of the month for a free evening of one-on-one help to break down barriers and answer questions. Light refreshments will be served and children are welcome to attend with an adult. Have you been asking yourself any of the following questions? &bull\; What are the first steps to go to college? &bull\; How can I afford to attend? &bull\; Am I ready for college? &bull\; What programs are offered? &bull\; Am I ready to take the placement test? &bull\; I&#39\;ve already started college\, how do I finish my degree or program? STEPS: GHC Open House Information on the following topics\, as well as any others you are interested in\, will be available during the open house. &bull\; Applying to GHC &bull\; Financial Aid &bull\; Scholarships &bull\; Managing Employment\, Family\, and School &bull\; Vocational &amp\; Technology Programs &bull\; Associate &amp\; Bachelor Degrees &bull\; Running Start &bull\; Returning to College &bull\; and other any other topics you may have questions about This is a free event that anyone is welcome to attend! You can show up anytime during the 2-hour event.
LOCATION:Grays Harbor College Welcome Center (HUB) 1620 Edward P. Smith Drive Aberdeen\, WA 98520
UID:e.26.11384
SEQUENCE:3
DTSTAMP:20260424T104140Z
URL:https://chamber.graysharbor.org/events/details/steps-ghc-open-house-07-10-2019-11384
END:VEVENT

END:VCALENDAR
