BEGIN:VCALENDAR
VERSION:2.0
PRODID:-//ChamberMaster//Event Calendar 2.0//EN
METHOD:PUBLISH
X-PUBLISHED-TTL:P3D
REFRESH-INTERVAL:P3D
CALSCALE:GREGORIAN
BEGIN:VEVENT
DTSTART:20180322T000000Z
DTEND:20180322T020000Z
X-MICROSOFT-CDO-ALLDAYEVENT:FALSE
SUMMARY:STEPS: Steps Toward Education Promotes Success
DESCRIPTION:The 2017-2018 GHC Leadership Development Project team\, Harbor Roots\, presents STEPS: Steps Toward Education Promotes Success. This event will take place at GHC in the Welcome Center/HUB from 5-7pm beginning on Wednesday\, March 21st. Our goal is to provide one-on-one individualized support to potential new and returning students to answer questions about applying\, testing\, financial aid\, program options and degrees\, and managing employment\, family\, and school. This event will happen on the third Wednesday of each month with an option to add in Saturdays if our community members and partners identify that as a need. Light refreshments will be served and children are welcome to attend with an adult.
X-ALT-DESC;FMTTYPE=text/html:<span style="color: rgb(34\, 34\, 34)\; font-family: arial\, sans-serif\; font-size: 12.8px\; background-color: rgb(255\, 255\, 255)\;">The 2017-2018 GHC Leadership Development Project team\, Harbor Roots\, presents STEPS: Steps Toward Education Promotes Success. This event will take place at GHC in the Welcome Center/HUB from&nbsp\;</span><span class="aBn" data-term="goog_1084508618" style="border-bottom: 1px dashed rgb(204\, 204\, 204)\; position: relative\; top: -2px\; z-index: 0\; color: rgb(34\, 34\, 34)\; font-family: arial\, sans-serif\; font-size: 12.8px\; background-color: rgb(255\, 255\, 255)\;" tabindex="0"><span class="aQJ" style="position: relative\; top: 2px\; z-index: -1\;">5-7pm</span></span><span style="color: rgb(34\, 34\, 34)\; font-family: arial\, sans-serif\; font-size: 12.8px\; background-color: rgb(255\, 255\, 255)\;">&nbsp\;beginning on Wednesday\, March 21</span><sup style="color: rgb(34\, 34\, 34)\; font-family: arial\, sans-serif\; background-color: rgb(255\, 255\, 255)\;">st</sup><span style="color: rgb(34\, 34\, 34)\; font-family: arial\, sans-serif\; font-size: 12.8px\; background-color: rgb(255\, 255\, 255)\;">. Our goal is to provide one-on-one individualized support to potential new and returning students to answer questions about applying\, testing\, financial aid\, program options and degrees\, and managing employment\, family\, and school. This event will happen on the third Wednesday&nbsp\;</span><span style="color: rgb(34\, 34\, 34)\; font-family: arial\, sans-serif\; font-size: 12.8px\; background-color: rgb(255\, 255\, 255)\;">of</span><span style="color: rgb(34\, 34\, 34)\; font-family: arial\, sans-serif\; font-size: 12.8px\; background-color: rgb(255\, 255\, 255)\;"> each month with an option to add in Saturdays if our community members and partners identify that as a need. Light refreshments will be served and children are welcome to attend with an adult.</span>
LOCATION:The HUB at Grays Harbor College Aberdeen\, WA
UID:e.26.9542
SEQUENCE:3
DTSTAMP:20260425T115250Z
URL:https://chamber.graysharbor.org/events/details/steps-steps-toward-education-promotes-success-9542
END:VEVENT

END:VCALENDAR
