BEGIN:VCALENDAR
VERSION:2.0
PRODID:-//ChamberMaster//Event Calendar 2.0//EN
METHOD:PUBLISH
X-PUBLISHED-TTL:P3D
REFRESH-INTERVAL:P3D
CALSCALE:GREGORIAN
BEGIN:VEVENT
DTSTART:20201118T013000Z
DTEND:20201118T023000Z
X-MICROSOFT-CDO-ALLDAYEVENT:FALSE
SUMMARY:STEPS TO ENROLL: Virtual GHC Admissions Information Session
DESCRIPTION:oin Grays Harbor College Admissions staff for an overview of the steps you need to take to enroll at GHC.\n\nWe'll cover the following in this session:\n\n- Apply to GHC\n\n- Asses Your Skills: Using the College Placement Test\, high school transcripts\, and previous college credit to place into classes.\n\n- Financial Aid: Filling out the FAFSA/WASFA\, applying for scholarships\, and other financial aid opportunities.\n\n- Register for Classes: Schedule an Entry Registration appointment to get enrolled for your first quarter.
X-ALT-DESC;FMTTYPE=text/html:<div class="kvgmc6g5 cxmmr5t8 oygrvhab hcukyx3x c1et5uql" style="word-wrap: break-word\; margin: 0px\; font-family: system-ui\, -apple-system\, BlinkMacSystemFont\, &quot\;.SFNSText-Regular&quot\;\, sans-serif\; caret-color: rgb(5\, 5\, 5)\; color: rgb(5\, 5\, 5)\; font-size: 15px\;">oin Grays Harbor College Admissions staff for an overview of the steps you need to take to enroll at GHC.</div>\n\n<div class="o9v6fnle cxmmr5t8 oygrvhab hcukyx3x c1et5uql" style="word-wrap: break-word\; margin: 0.5em 0px 0px\; font-family: system-ui\, -apple-system\, BlinkMacSystemFont\, &quot\;.SFNSText-Regular&quot\;\, sans-serif\; caret-color: rgb(5\, 5\, 5)\; color: rgb(5\, 5\, 5)\; font-size: 15px\;">We&#39\;ll cover the following in this session:<br />\n- Apply to GHC<br />\n- Asses Your Skills: Using the College Placement Test\, high school transcripts\, and previous college credit to place into classes.<br />\n- Financial Aid: Filling out the FAFSA/WASFA\, applying for scholarships\, and other financial aid opportunities.<br />\n- Register for Classes: Schedule an Entry Registration appointment to get enrolled for your first quarter.</div>\n
LOCATION:Join Zoom Meeting https://ghc.zoom.us/j/92451651634 Meeting ID: 924 5165 1634 Find your local number: https://ghc.zoom.us/u/ac8tjxDwUl
UID:e.26.12529
SEQUENCE:3
DTSTAMP:20260424T060006Z
URL:https://chamber.graysharbor.org/events/details/steps-to-enroll-virtual-ghc-admissions-information-session-12529
END:VEVENT

END:VCALENDAR
