BEGIN:VCALENDAR
VERSION:2.0
PRODID:-//ChamberMaster//Event Calendar 2.0//EN
METHOD:PUBLISH
X-PUBLISHED-TTL:P3D
REFRESH-INTERVAL:P3D
CALSCALE:GREGORIAN
BEGIN:VEVENT
DTSTART:20171105T050000Z
DTEND:20171104T220000Z
X-MICROSOFT-CDO-ALLDAYEVENT:FALSE
SUMMARY:Steven's Holiday Bazaar
DESCRIPTION:Held by Steven's School PTO\n\nKick off your holiday season shopping with multiple local vendors! With door prizes and hourly giveaways!
X-ALT-DESC;FMTTYPE=text/html:Held by Steven&#39\;s School PTO<br />\nKick off your holiday season shopping with multiple local vendors! With door prizes and hourly giveaways!
LOCATION:Steven's Elementary School Gym Aberdeen\, WA
UID:e.26.8306
SEQUENCE:3
DTSTAMP:20260425T181040Z
URL:https://chamber.graysharbor.org/events/details/steven-s-holiday-bazaar-8306
END:VEVENT

END:VCALENDAR
