BEGIN:VCALENDAR
VERSION:2.0
PRODID:-//ChamberMaster//Event Calendar 2.0//EN
METHOD:PUBLISH
X-PUBLISHED-TTL:P3D
REFRESH-INTERVAL:P3D
CALSCALE:GREGORIAN
BEGIN:VEVENT
DTSTART:20191103T060000Z
DTEND:20191104T010000Z
X-MICROSOFT-CDO-ALLDAYEVENT:FALSE
SUMMARY:Stitches Holiday Open House
DESCRIPTION:Stitches' first annual open house will take place over November 2nd and 3rd! Bring the kids and they can make a Christmas stocking to take home. Holiday treats and beverages will be offered as well. Open 11am to 5pm these two days.
X-ALT-DESC;FMTTYPE=text/html:<span style="font-size:14px\;"><span style="font-family:arial\;"><span style="box-sizing: border-box\; -webkit-font-smoothing: subpixel-antialiased\; margin: 0px\; padding: 0px\; border: 0px\; outline: 0px\; vertical-align: baseline\; color: rgb(20\, 20\, 20)\; caret-color: rgb(29\, 33\, 41)\; white-space: pre-wrap\;"><font color="#000000" style="box-sizing: border-box\; -webkit-font-smoothing: subpixel-antialiased\;">Stitches&#39\; first annual open house will take place over November 2nd and 3rd! Bring the kids and they can make a Christmas stocking to take home. Holiday treats and beverages will be offered as well. Open 11am to 5pm these two days. </font></span></span></span>
LOCATION:2601B Westhaven Dr Westport\, Washington 98595
UID:e.26.12243
SEQUENCE:3
DTSTAMP:20260424T041948Z
URL:https://chamber.graysharbor.org/events/details/stitches-holiday-open-house-12243
END:VEVENT

END:VCALENDAR
