BEGIN:VCALENDAR
VERSION:2.0
PRODID:-//ChamberMaster//Event Calendar 2.0//EN
METHOD:PUBLISH
X-PUBLISHED-TTL:P3D
REFRESH-INTERVAL:P3D
CALSCALE:GREGORIAN
BEGIN:VEVENT
DTSTART:20190530T203000Z
DTEND:20190530T213000Z
X-MICROSOFT-CDO-ALLDAYEVENT:FALSE
SUMMARY:Stitches Quilt Shop Ribbon Cutting
DESCRIPTION:GGHI will be partnering with the Westport-Grayland Chamber of Commerce to perform a ribbon cutting for the new quilt shop\, Stitches\, that will be opening its' doors in Westport. The event will take place on Thursday\, May 30th at 1:30 pm!. \n\nStitches is located at 2601 Westhaven Dr. Suite B in Westport. Gather your friends and come on out to the beach to welcome this exciting new business to the Harbor!
X-ALT-DESC;FMTTYPE=text/html:<span style="caret-color: rgb(29\, 33\, 41)\; color: rgb(29\, 33\, 41)\; font-family: system-ui\, -apple-system\, BlinkMacSystemFont\, &quot\;.SFNSText-Regular&quot\;\, sans-serif\; font-size: 14px\; white-space: pre-wrap\;">GGHI will be partnering with the Westport-Grayland Chamber of Commerce to perform a ribbon cutting for the new quilt shop\, Stitches\, that will be opening its&#39\; doors in Westport. The event will take place on Thursday\, May 30th at 1:30 pm!. </span><br style="caret-color: rgb(29\, 33\, 41)\; color: rgb(29\, 33\, 41)\; font-family: system-ui\, -apple-system\, BlinkMacSystemFont\, &quot\;.SFNSText-Regular&quot\;\, sans-serif\; font-size: 14px\; white-space: pre-wrap\;" />\n<span style="caret-color: rgb(29\, 33\, 41)\; color: rgb(29\, 33\, 41)\; font-family: system-ui\, -apple-system\, BlinkMacSystemFont\, &quot\;.SFNSText-Regular&quot\;\, sans-serif\; font-size: 14px\; white-space: pre-wrap\;">Stitches is located at 2601 Westhaven Dr. Suite B in Westport. Gather your friends and come on out to the beach to welcome this exciting new business to the Harbor! </span>
LOCATION:Stitches 2601 Westhaven Dr. Suite B Westport
UID:e.26.11976
SEQUENCE:3
DTSTAMP:20260424T133042Z
URL:https://chamber.graysharbor.org/events/details/stitches-quilt-shop-ribbon-cutting-11976
END:VEVENT

END:VCALENDAR
