BEGIN:VCALENDAR
VERSION:2.0
PRODID:-//ChamberMaster//Event Calendar 2.0//EN
METHOD:PUBLISH
X-PUBLISHED-TTL:P3D
REFRESH-INTERVAL:P3D
CALSCALE:GREGORIAN
BEGIN:VEVENT
DTSTART:20190720T010000Z
DTEND:20190720T040000Z
X-MICROSOFT-CDO-ALLDAYEVENT:FALSE
SUMMARY:Stop and Smell the Rosé
DESCRIPTION:Join Ocean Beach Roasters at 6pm on their patio for the evening July 19th. They will presenting six tastes of Rose\, a selection of their famous hors d'oeuvres\, paired perfectly\, as always\, with their fabulous service. \n\n\n\nPlease call 360.289.3100 to reserve your space.
X-ALT-DESC;FMTTYPE=text/html:<span style="caret-color: rgb(29\, 33\, 41)\; color: rgb(29\, 33\, 41)\; font-family: system-ui\, -apple-system\, BlinkMacSystemFont\, &quot\;.SFNSText-Regular&quot\;\, sans-serif\; font-size: 14px\; white-space: pre-wrap\;">Join Ocean Beach Roasters at 6pm on their patio for the evening July 19th. They will presenting six tastes of Rose\, a selection of their famous hors d&#39\;oeuvres\, paired perfectly\, as always\, with their fabulous service. </span><br style="caret-color: rgb(29\, 33\, 41)\; color: rgb(29\, 33\, 41)\; font-family: system-ui\, -apple-system\, BlinkMacSystemFont\, &quot\;.SFNSText-Regular&quot\;\, sans-serif\; font-size: 14px\; white-space: pre-wrap\;" />\n<br style="caret-color: rgb(29\, 33\, 41)\; color: rgb(29\, 33\, 41)\; font-family: system-ui\, -apple-system\, BlinkMacSystemFont\, &quot\;.SFNSText-Regular&quot\;\, sans-serif\; font-size: 14px\; white-space: pre-wrap\;" />\n<span style="caret-color: rgb(29\, 33\, 41)\; color: rgb(29\, 33\, 41)\; font-family: system-ui\, -apple-system\, BlinkMacSystemFont\, &quot\;.SFNSText-Regular&quot\;\, sans-serif\; font-size: 14px\; white-space: pre-wrap\;">Please call 360.289.3100 to reserve your space.</span>
LOCATION:pin Ocean Beach Roasters & Bistro 841 Point Brown Ave NW\, Ocean Shores\, Washington 98569
UID:e.26.12098
SEQUENCE:3
DTSTAMP:20260424T104303Z
URL:https://chamber.graysharbor.org/events/details/stop-and-smell-the-ros&#233;-12098
END:VEVENT

END:VCALENDAR
