BEGIN:VCALENDAR
VERSION:2.0
PRODID:-//ChamberMaster//Event Calendar 2.0//EN
METHOD:PUBLISH
X-PUBLISHED-TTL:P3D
REFRESH-INTERVAL:P3D
CALSCALE:GREGORIAN
BEGIN:VEVENT
DTSTART:20170617T180000Z
DTEND:20170617T210000Z
X-MICROSOFT-CDO-ALLDAYEVENT:FALSE
SUMMARY:Summer Kick-Off for Kids and Parents
DESCRIPTION:Join us for a summer kickoff!\n\n	We will have crafts\, entertainment\, interactive games and inflatable toys!\n	Check out a library book.\n	Sack lunch will be served from 11:30 - 12:00 for 18 years old and younger!\n	Learn about the summer youth activities offered by: YMCA of Grays Harbor\, Timberland Regional Library\, Aberdeen School District\, Aberdeen Parks & Rec and Cultivating Roots Garden.
X-ALT-DESC;FMTTYPE=text/html:Join us for a summer kickoff!\n<ul>\n	<li>We will have crafts\, entertainment\, interactive games and inflatable toys!</li>\n	<li>Check out a library book.</li>\n	<li>Sack lunch will be served from 11:30 - 12:00 for 18 years old and younger!</li>\n	<li>Learn about the summer youth activities offered by: YMCA of Grays Harbor\, Timberland Regional Library\, Aberdeen School District\, Aberdeen Parks &amp\; Rec and Cultivating Roots Garden.</li>\n</ul>\n
LOCATION:Finch Play field 608 West Sumner Aberdeen\, WA
UID:e.26.7739
SEQUENCE:3
DTSTAMP:20260426T033058Z
URL:https://chamber.graysharbor.org/events/details/summer-kick-off-for-kids-and-parents-7739
END:VEVENT

END:VCALENDAR
