BEGIN:VCALENDAR
VERSION:2.0
PRODID:-//ChamberMaster//Event Calendar 2.0//EN
METHOD:PUBLISH
X-PUBLISHED-TTL:P3D
REFRESH-INTERVAL:P3D
CALSCALE:GREGORIAN
BEGIN:VEVENT
DTSTART;VALUE=DATE:20190901
DTEND;VALUE=DATE:20190902
TRANSP:TRANSPARENT
X-MICROSOFT-CDO-ALLDAYEVENT:TRUE
SUMMARY:Summer Thunder Sprint Series (*Dual Track Bonus)
DESCRIPTION:SUMMER THUNDER SPRINT SERIES (*Dual Track Bonus) at the Grays Harbor Raceway in Elma!\n\n\n*Dual Track Bonus - graysharborraceway.com/news/?i=67692\n\n\nEvent Classes\n\nNW Focus Midgets: Northwest Focus Midget Series\n\n360 Sprint Cars\, Modifieds\, Summer Thunder Sprint Series
X-ALT-DESC;FMTTYPE=text/html:<h4 style="color: rgb(51\, 51\, 51)\; background-color: rgb(255\, 255\, 255)\; margin: 0px 0px 5px\; padding: 0px\; border: 0px\; outline: 0px\; font-family: Arial\; vertical-align: baseline\; caret-color: rgb(255\, 255\, 255)\;"><span style="font-size:14px\;"><font color="#000000">SUMMER THUNDER SPRINT SERIES (*Dual Track Bonus) at the Grays Harbor Raceway in Elma!</font></span></h4>\n\n<div class="mdWrap" style="color: rgb(51\, 51\, 51)\; font-family: Arial\, sans-serif\; background-color: rgb(255\, 255\, 255)\; margin: 0px\; padding: 0px\; border: 0px\; outline: 0px\; vertical-align: baseline\; caret-color: rgb(255\, 255\, 255)\;">\n<p style="margin: 0px 0px 1em\; padding: 0px\; border: 0px\; outline: 0px\; font-style: inherit\; vertical-align: baseline\; line-height: 1.4\;"><span style="font-size:14px\;"><font color="#000000" face="arial">*Dual Track Bonus -&nbsp\;<a href="http://www.graysharborraceway.com/news/?i=67692" style="color: rgb(86\, 154\, 189)\; margin: 0px\; padding: 0px\; border: 0px\; font-style: inherit\; vertical-align: baseline\; outline: none !important\;">graysharborraceway.com/news/?i=67692</a></font></span></p>\n</div>\n\n<div class="schEventClassWrap" style="color: rgb(51\, 51\, 51)\; font-family: Arial\, sans-serif\; background-color: rgb(255\, 255\, 255)\; margin: 0px\; padding: 0px\; border: 0px\; outline: 0px\; vertical-align: baseline\; caret-color: rgb(255\, 255\, 255)\;"><span style="font-size:14px\;"><strong style="margin: 0px\; padding: 0px\; border: 0px\; outline: 0px\; font-style: inherit\; vertical-align: baseline\;"><font color="#000000" face="arial">Event Classes</font></strong></span>\n\n<div class="eventInfo" style="margin: 0px\; padding: 0px\; border: 0px\; outline: 0px\; font-style: inherit\; vertical-align: baseline\;"><span style="font-size:14px\;"><font color="#000000" face="arial"><span style="margin: 0px\; padding: 0px\; border: 0px\; outline: 0px\; font-style: inherit\; vertical-align: baseline\;">NW Focus Midgets:</span>&nbsp\;Northwest Focus Midget Series</font></span></div>\n\n<div class="eventInfo" style="margin: 0px\; padding: 0px\; border: 0px\; outline: 0px\; font-style: inherit\; vertical-align: baseline\;"><span style="font-size:14px\;"><font color="#000000" face="arial">360 Sprint Cars\, Modifieds\, Summer Thunder Sprint Series</font></span></div>\n</div>\n
LOCATION:32 Elma McCleary Rd Elma\, Washington 98541
UID:e.26.12114
SEQUENCE:3
DTSTAMP:20260424T074052Z
URL:https://chamber.graysharbor.org/events/details/summer-thunder-sprint-series-dual-track-bonus-12114
END:VEVENT

END:VCALENDAR
