BEGIN:VCALENDAR
VERSION:2.0
PRODID:-//ChamberMaster//Event Calendar 2.0//EN
METHOD:PUBLISH
X-PUBLISHED-TTL:P3D
REFRESH-INTERVAL:P3D
CALSCALE:GREGORIAN
BEGIN:VEVENT
DTSTART:20180811T170000Z
DTEND:20180811T220000Z
X-MICROSOFT-CDO-ALLDAYEVENT:FALSE
SUMMARY:SummerFest
DESCRIPTION:Free Family Fun! Begin on the West end of downtown\, pick up a scavenger map and make your way through town looking for the item in each of the participating stores! Stores will be offering a Street Side Sale that day also! End up in Zelasko Park for music\, kids games\, and more. Wholesome family fun!
X-ALT-DESC;FMTTYPE=text/html:Free Family Fun! Begin on the West end of downtown\, pick up a scavenger map and make your way through town looking for the item in each of the participating stores! Stores will be offering a Street Side Sale that day also! End up in Zelasko Park for music\, kids games\, and more. Wholesome family fun!
LOCATION:Downtown Aberdeen and Zelasko Park
UID:e.26.11100
SEQUENCE:3
DTSTAMP:20260425T031959Z
URL:https://chamber.graysharbor.org/events/details/summerfest-11100
END:VEVENT

END:VCALENDAR
