BEGIN:VCALENDAR
VERSION:2.0
PRODID:-//ChamberMaster//Event Calendar 2.0//EN
METHOD:PUBLISH
X-PUBLISHED-TTL:P3D
REFRESH-INTERVAL:P3D
CALSCALE:GREGORIAN
BEGIN:VEVENT
DTSTART;VALUE=DATE:20190817
DTEND;VALUE=DATE:20190818
TRANSP:TRANSPARENT
X-MICROSOFT-CDO-ALLDAYEVENT:TRUE
SUMMARY:SummerFest Going West
DESCRIPTION:Summer is almost here and that means we are working on SummerFest! This year\, Saturday\, August 17th\, we are holding a BBQ Cook Off Competition downtown as well as vendors\, games and fun! You can't have a BBQ Cook Off without thinking about the Old West..... so our theme this year is SummerFest Going West! \n\n\n\nThe BBQ event will be located in the parking lot on the corner of Broadway and Wishkah in Aberdeen and vendor and other events will be in the blocked off street.\n\n\n\nGet out your cowboy/cowgirl duds and fire up the BBQ and think about entering our Cook Off! Fee for teams to enter is $35 (pork ribs and chicken will be provided) and Team payouts for 1st place - $250\, 2nd place - $150\, 3rd place - $75. \n\n\n\nContact for rules and registration forms - Bobbi McCracken bobbimccracken2@gmail.com or 360-580-7734.
X-ALT-DESC;FMTTYPE=text/html:<span style="caret-color: rgb(29\, 33\, 41)\; color: rgb(29\, 33\, 41)\; font-family: system-ui\, -apple-system\, BlinkMacSystemFont\, &quot\;.SFNSText-Regular&quot\;\, sans-serif\; font-size: 14px\; white-space: pre-wrap\;">Summer is almost here and that means we are working on SummerFest! This year\, Saturday\, August 17th\, we are holding a BBQ Cook Off Competition downtown as well as vendors\, games and fun! You can&#39\;t have a BBQ Cook Off without thinking about the Old West..... so our theme this year is SummerFest Going West! </span><br style="caret-color: rgb(29\, 33\, 41)\; color: rgb(29\, 33\, 41)\; font-family: system-ui\, -apple-system\, BlinkMacSystemFont\, &quot\;.SFNSText-Regular&quot\;\, sans-serif\; font-size: 14px\; white-space: pre-wrap\;" />\n<br style="caret-color: rgb(29\, 33\, 41)\; color: rgb(29\, 33\, 41)\; font-family: system-ui\, -apple-system\, BlinkMacSystemFont\, &quot\;.SFNSText-Regular&quot\;\, sans-serif\; font-size: 14px\; white-space: pre-wrap\;" />\n<span style="caret-color: rgb(29\, 33\, 41)\; color: rgb(29\, 33\, 41)\; font-family: system-ui\, -apple-system\, BlinkMacSystemFont\, &quot\;.SFNSText-Regular&quot\;\, sans-serif\; font-size: 14px\; white-space: pre-wrap\;">The BBQ event will be located in the parking lot on the corner of Broadway and Wishkah in Aberdeen and vendor and other events will be in the blocked off street.</span><br style="caret-color: rgb(29\, 33\, 41)\; color: rgb(29\, 33\, 41)\; font-family: system-ui\, -apple-system\, BlinkMacSystemFont\, &quot\;.SFNSText-Regular&quot\;\, sans-serif\; font-size: 14px\; white-space: pre-wrap\;" />\n<br style="caret-color: rgb(29\, 33\, 41)\; color: rgb(29\, 33\, 41)\; font-family: system-ui\, -apple-system\, BlinkMacSystemFont\, &quot\;.SFNSText-Regular&quot\;\, sans-serif\; font-size: 14px\; white-space: pre-wrap\;" />\n<span style="caret-color: rgb(29\, 33\, 41)\; color: rgb(29\, 33\, 41)\; font-family: system-ui\, -apple-system\, BlinkMacSystemFont\, &quot\;.SFNSText-Regular&quot\;\, sans-serif\; font-size: 14px\; white-space: pre-wrap\;">Get out your cowboy/cowgirl duds and fire up the BBQ and think about entering our Cook Off! Fee for teams to enter is $35 (pork ribs and chicken will be provided) and Team payouts for 1st place - $250\, 2nd place - $150\, 3rd place - $75. </span><br style="caret-color: rgb(29\, 33\, 41)\; color: rgb(29\, 33\, 41)\; font-family: system-ui\, -apple-system\, BlinkMacSystemFont\, &quot\;.SFNSText-Regular&quot\;\, sans-serif\; font-size: 14px\; white-space: pre-wrap\;" />\n<br style="caret-color: rgb(29\, 33\, 41)\; color: rgb(29\, 33\, 41)\; font-family: system-ui\, -apple-system\, BlinkMacSystemFont\, &quot\;.SFNSText-Regular&quot\;\, sans-serif\; font-size: 14px\; white-space: pre-wrap\;" />\n<span style="caret-color: rgb(29\, 33\, 41)\; color: rgb(29\, 33\, 41)\; font-family: system-ui\, -apple-system\, BlinkMacSystemFont\, &quot\;.SFNSText-Regular&quot\;\, sans-serif\; font-size: 14px\; white-space: pre-wrap\;">Contact for rules and registration forms - Bobbi McCracken bobbimccracken2@gmail.com or 360-580-7734.</span>
LOCATION:Broadway Street Aberdeen
UID:e.26.12016
SEQUENCE:3
DTSTAMP:20260424T085906Z
URL:https://chamber.graysharbor.org/events/details/summerfest-going-west-12016
END:VEVENT

END:VCALENDAR
