BEGIN:VCALENDAR
VERSION:2.0
PRODID:-//ChamberMaster//Event Calendar 2.0//EN
METHOD:PUBLISH
X-PUBLISHED-TTL:P3D
REFRESH-INTERVAL:P3D
CALSCALE:GREGORIAN
BEGIN:VEVENT
DTSTART:20180117T180000Z
DTEND:20180118T000000Z
X-MICROSOFT-CDO-ALLDAYEVENT:FALSE
SUMMARY:Summit Pacific Blood Drive
DESCRIPTION:We're hosting a blood drive!\n\n\n\nBloodworks Northwest will be on site with their Bloodmobile accepting whole blood donations from 10 a.m. to 4 p.m. with a break from 12- 1 p.m. The Bloodmobile will be located outside of the main patient entrance in the SPMC parking lot. \n\n\n\nSign up online at https://www.bloodworksnw.org/donate/find-mobile-blood-drive or call 1-800-398-7888
X-ALT-DESC;FMTTYPE=text/html:<span style="color: rgb(75\, 79\, 86)\; font-family: Helvetica\, Arial\, sans-serif\; font-size: 14px\; background-color: rgb(255\, 255\, 255)\;">We&#39\;re hosting a blood drive!</span><br style="color: rgb(75\, 79\, 86)\; font-family: Helvetica\, Arial\, sans-serif\; font-size: 14px\; background-color: rgb(255\, 255\, 255)\;" />\n<br style="color: rgb(75\, 79\, 86)\; font-family: Helvetica\, Arial\, sans-serif\; font-size: 14px\; background-color: rgb(255\, 255\, 255)\;" />\n<span style="color: rgb(75\, 79\, 86)\; font-family: Helvetica\, Arial\, sans-serif\; font-size: 14px\; background-color: rgb(255\, 255\, 255)\;">Bloodworks Northwest will be on site with their Bloodmobile accepting whole blood donations from 10 a.m. to 4 p.m. with a break from 12- 1 p.m. The Bloodmobile will be located outside of the main patient entrance in the SPMC parking lot.&nbsp\;</span><br style="color: rgb(75\, 79\, 86)\; font-family: Helvetica\, Arial\, sans-serif\; font-size: 14px\; background-color: rgb(255\, 255\, 255)\;" />\n<br style="color: rgb(75\, 79\, 86)\; font-family: Helvetica\, Arial\, sans-serif\; font-size: 14px\; background-color: rgb(255\, 255\, 255)\;" />\n<span style="color: rgb(75\, 79\, 86)\; font-family: Helvetica\, Arial\, sans-serif\; font-size: 14px\; background-color: rgb(255\, 255\, 255)\;">Sign up online at&nbsp\;</span><a data-lynx-mode="async" data-lynx-uri="https://l.facebook.com/l.php?u=https%3A%2F%2Fwww.bloodworksnw.org%2Fdonate%2Ffind-mobile-blood-drive&amp\;h=ATMSY91bFLEhgF11J1mKgaCi-83XqT_8BXswGRm-D2SY-a3zraVSMEFzKpIDBwdbMTG7J9kqQipCRHJL-aDXftRk0fbYEVQHQVtWknYra9QbVz45LTmJ_4aidX2TCMqZjAdso8l7fcMghXKn_3XU9rTyU-daeqt0P-pdku0sFZPC326jxRYeSI4KYfpltyif" href="https://www.bloodworksnw.org/donate/find-mobile-blood-drive" rel="nofollow noopener" style="color: rgb(54\, 88\, 153)\; cursor: pointer\; text-decoration-line: none\; font-family: Helvetica\, Arial\, sans-serif\; font-size: 14px\; background-color: rgb(255\, 255\, 255)\;" target="_blank"><span style="font-family: inherit\;">https://</span><wbr /><span style="font-family: inherit\;">www.bloodworksnw.org/</span><wbr /><span style="font-family: inherit\;">donate/</span><wbr />find-mobile-blood-drive</a><span style="color: rgb(75\, 79\, 86)\; font-family: Helvetica\, Arial\, sans-serif\; font-size: 14px\; background-color: rgb(255\, 255\, 255)\;">&nbsp\;or call 1-800-398-7888</span>
LOCATION:Summit Pacific Medical Center Elma\, WA
UID:e.26.9414
SEQUENCE:3
DTSTAMP:20260425T145449Z
URL:https://chamber.graysharbor.org/events/details/summit-pacific-blood-drive-9414
END:VEVENT

END:VCALENDAR
