BEGIN:VCALENDAR
VERSION:2.0
PRODID:-//ChamberMaster//Event Calendar 2.0//EN
METHOD:PUBLISH
X-PUBLISHED-TTL:P3D
REFRESH-INTERVAL:P3D
CALSCALE:GREGORIAN
BEGIN:VEVENT
DTSTART;VALUE=DATE:20191111
DTEND;VALUE=DATE:20191114
TRANSP:TRANSPARENT
X-MICROSOFT-CDO-ALLDAYEVENT:TRUE
SUMMARY:Summit Pacific Community Forum
DESCRIPTION:You're invited to attend a Community Forum hosted by Josh Martin\, Summit Pacific Medical Center CEO! \n\nLearn about featured services\, new providers and other exciting Summit Pacific updates\, plus a chance to ask questions and share your feedback.
X-ALT-DESC;FMTTYPE=text/html:<div class="page" style="caret-color: rgb(0\, 0\, 0)\; color: rgb(0\, 0\, 0)\; font-family: -webkit-standard\;" title="Page 1">\n<div class="layoutArea">\n<div class="column">\n<p><span style="font-size:14px\;"><span style="font-family:arial\;"><span style="color:#000000\;">You&rsquo\;re invited to attend a&nbsp\;<span style="font-weight: 700\;">Community Forum&nbsp\;</span>hosted by Josh Martin\, Summit Pacific Medical Center CEO!&nbsp\;</span></span><br />\n<span style="color:#000000\;"><span style="font-family:arial\;"><span style="font-weight: 700\;">Learn about featured services\, new providers and other exciting Summit Pacific updates\, plus a chance to ask questions and share your feedback.</span></span></span></span></p>\n</div>\n</div>\n</div>\n
LOCATION:
UID:e.26.12263
SEQUENCE:3
DTSTAMP:20260424T041917Z
URL:https://chamber.graysharbor.org/events/details/summit-pacific-community-forum-12263
END:VEVENT

END:VCALENDAR
