BEGIN:VCALENDAR
VERSION:2.0
PRODID:-//ChamberMaster//Event Calendar 2.0//EN
METHOD:PUBLISH
X-PUBLISHED-TTL:P3D
REFRESH-INTERVAL:P3D
CALSCALE:GREGORIAN
BEGIN:VEVENT
DTSTART:20210210T013000Z
DTEND:20210210T023000Z
X-MICROSOFT-CDO-ALLDAYEVENT:FALSE
SUMMARY:Summit Pacific Education Event - Optimizing Your Heart Health
DESCRIPTION:Join us for a virtual Community Education Event Tuesday\, February 9 at 5:30 p.m. via Facebook live. Dr. Nicole Taylor\, naturopathic primary care provider at Summit Pacific will be presenting on heart health in honor of American Heart Month. \n\nKey discussion points include how women differ from men in relationship to heart health\, the major risk factors affecting heart health and how can we easily decrease our risk.\n\nSPMC hosts a series of free Community Education Events the second Tuesday of each month. Please visit www.summitpacificmedicalcenter.org or find Summit Pacific on Facebook to view upcoming events.
X-ALT-DESC;FMTTYPE=text/html:<p style="caret-color: rgb(50\, 49\, 48)\; color: rgb(50\, 49\, 48)\; font-size: 11pt\; font-family: Calibri\, sans-serif\; margin: 0px 0px 12pt\;"><span style="margin: 0px\; padding: 0px\; border: 0px\; font-family: inherit\; font-size: 12pt\; font-style: inherit\; font-variant-caps: inherit\; font-stretch: inherit\; line-height: inherit\; vertical-align: baseline\; color: inherit\;">Join us for a virtual Community Education Event Tuesday\, February 9 at 5:30 p.m. via&nbsp\;</span><a data-auth="NotApplicable" href="https://www.facebook.com/events/175603277234766" rel="noopener noreferrer" style="margin: 0px\; padding: 0px\; border: 0px\; font-family: inherit\; font-size: inherit\; font-style: inherit\; font-variant-caps: inherit\; font-stretch: inherit\; line-height: inherit\; vertical-align: baseline\;" target="_blank"><span style="margin: 0px\; padding: 0px\; border: 0px\; font-family: inherit\; font-size: 12pt\; font-style: inherit\; font-variant-caps: inherit\; font-stretch: inherit\; line-height: inherit\; vertical-align: baseline\; color: inherit\;">Facebook live</span></a><span style="margin: 0px\; padding: 0px\; border: 0px\; font-family: inherit\; font-size: 12pt\; font-style: inherit\; font-variant-caps: inherit\; font-stretch: inherit\; line-height: inherit\; vertical-align: baseline\; color: inherit\;">. Dr. Nicole Taylor\, naturopathic primary care provider at Summit Pacific will be presenting on heart health in honor of American Heart Month.&nbsp\;</span></p>\n\n<p style="caret-color: rgb(50\, 49\, 48)\; color: rgb(50\, 49\, 48)\; font-size: 11pt\; font-family: Calibri\, sans-serif\; margin: 0px 0px 12pt\;"><span style="margin: 0px\; padding: 0px\; border: 0px\; font-family: inherit\; font-size: 12pt\; font-style: inherit\; font-variant-caps: inherit\; font-stretch: inherit\; line-height: inherit\; vertical-align: baseline\; color: inherit\;">Key discussion points include how women differ from men in relationship to heart health\, the major risk factors affecting heart health and how can we easily decrease our risk.</span></p>\n\n<p style="caret-color: rgb(50\, 49\, 48)\; color: rgb(50\, 49\, 48)\; font-size: 11pt\; font-family: Calibri\, sans-serif\; margin: 0px 0px 12pt\;"><span style="margin: 0px\; padding: 0px\; border: 0px\; font-family: inherit\; font-size: 12pt\; font-style: inherit\; font-variant-caps: inherit\; font-stretch: inherit\; line-height: inherit\; vertical-align: baseline\; color: inherit\;">SPMC hosts a series of free Community Education Events the second Tuesday of each month. Please visit&nbsp\;<a name="x__Hlk63433046" style="margin: 0px\; padding: 0px\; border: 0px\; font-family: inherit\; font-size: inherit\; font-style: inherit\; font-variant-caps: inherit\; font-stretch: inherit\; line-height: inherit\; vertical-align: baseline\;"></a><a data-auth="NotApplicable" href="file://spmcfas/Marketing/Press%20Releases/www.summitpacificmedicalcenter.org%20" rel="noopener noreferrer" style="margin: 0px\; padding: 0px\; border: 0px\; font-family: inherit\; font-size: inherit\; font-style: inherit\; font-variant-caps: inherit\; font-stretch: inherit\; line-height: inherit\; vertical-align: baseline\;" target="_blank"><span style="margin: 0px\; padding: 0px\; border: 0px\; font-family: inherit\; font-size: inherit\; font-style: inherit\; font-variant-caps: inherit\; font-stretch: inherit\; line-height: inherit\; vertical-align: baseline\; color: inherit\;">www.summitpacificmedicalcenter.org</span></a><span style="margin: 0px\; padding: 0px\; border: 0px\; font-family: inherit\; font-size: inherit\; font-style: inherit\; font-variant-caps: inherit\; font-stretch: inherit\; line-height: inherit\; vertical-align: baseline\; color: inherit\;">&nbsp\;</span>or find Summit Pacific on Facebook to view upcoming events.</span></p>\n
LOCATION:Online
UID:e.26.12578
SEQUENCE:3
DTSTAMP:20260424T025230Z
URL:https://chamber.graysharbor.org/events/details/summit-pacific-education-event-optimizing-your-heart-health-12578
END:VEVENT

END:VCALENDAR
