BEGIN:VCALENDAR
VERSION:2.0
PRODID:-//ChamberMaster//Event Calendar 2.0//EN
METHOD:PUBLISH
X-PUBLISHED-TTL:P3D
REFRESH-INTERVAL:P3D
CALSCALE:GREGORIAN
BEGIN:VEVENT
DTSTART:20200131T220000Z
DTEND:20200201T000000Z
X-MICROSOFT-CDO-ALLDAYEVENT:FALSE
SUMMARY:Summit Pacific Wellness Center's First Birthday
DESCRIPTION:Join Summit Pacific for the Wellness Center's one year dedication and building dedication!
X-ALT-DESC;FMTTYPE=text/html:Join Summit Pacific for the Wellness Center&#39\;s one year dedication and building dedication!
LOCATION:Summit Pacific Wellness Center Elma\, WA
UID:e.26.12379
SEQUENCE:3
DTSTAMP:20260424T060312Z
URL:https://chamber.graysharbor.org/events/details/summit-pacific-wellness-center-s-first-birthday-12379
END:VEVENT

END:VCALENDAR
