BEGIN:VCALENDAR
VERSION:2.0
PRODID:-//ChamberMaster//Event Calendar 2.0//EN
METHOD:PUBLISH
X-PUBLISHED-TTL:P3D
REFRESH-INTERVAL:P3D
CALSCALE:GREGORIAN
BEGIN:VEVENT
DTSTART:20190718T190000Z
DTEND:20190718T210000Z
X-MICROSOFT-CDO-ALLDAYEVENT:FALSE
SUMMARY:Summit Plaza & Pacific Park Ribbon Cutting
DESCRIPTION:Join Summit Pacific Medical Center for a celebration of their brand new outdoor spaces! Bring the kids and try out the new playground equipment and splash pad. Loads of fun and goodies to eat will be available. Help kick-off summer at their new expanding campus!
X-ALT-DESC;FMTTYPE=text/html:<span style="caret-color: rgb(29\, 33\, 41)\; color: rgb(29\, 33\, 41)\; font-family: system-ui\, -apple-system\, BlinkMacSystemFont\, &quot\;.SFNSText-Regular&quot\;\, sans-serif\; font-size: 14px\; white-space: pre-wrap\;">Join Summit Pacific Medical Center for a celebration of their brand new outdoor spaces! Bring the kids and try out the new playground equipment and splash pad. Loads of fun and goodies to eat will be available. Help kick-off summer at their new expanding campus!</span>
LOCATION:pin Summit Pacific Medical Foundation 600 E Main St\, Elma\, Washington
UID:e.26.12036
SEQUENCE:3
DTSTAMP:20260424T104426Z
URL:https://chamber.graysharbor.org/events/details/summit-plaza-pacific-park-ribbon-cutting-12036
END:VEVENT

END:VCALENDAR
