BEGIN:VCALENDAR
VERSION:2.0
PRODID:-//ChamberMaster//Event Calendar 2.0//EN
METHOD:PUBLISH
X-PUBLISHED-TTL:P3D
REFRESH-INTERVAL:P3D
CALSCALE:GREGORIAN
BEGIN:VEVENT
DTSTART:20191215T190000Z
DTEND:20191215T203000Z
X-MICROSOFT-CDO-ALLDAYEVENT:FALSE
SUMMARY:Sunday Breakfast with Santa (Second Seating)
DESCRIPTION:Out of all the holiday traditions to fill the season\, the chance to meet Santa and Mrs. Claus and share their wish list is one of the most memorable for kids. Couple this with a delicious breakfast and you have a new favorite Yuletide tradition for the whole family. Santa breakfast keepsakes will be a fun treat for the kids to take home. In addition to the breakfast spread\, table games will be available to ensure everyone is having fun.\n\n\n\nParents can have photos of the kids with Santa by Juniper Tree Photography. A download link will be provided.
X-ALT-DESC;FMTTYPE=text/html:<span style="caret-color: rgb(29\, 33\, 41)\; color: rgb(29\, 33\, 41)\; font-family: system-ui\, -apple-system\, BlinkMacSystemFont\, &quot\;.SFNSText-Regular&quot\;\, sans-serif\; font-size: 14px\; white-space: pre-wrap\;">Out of all the holiday traditions to fill the season\, the chance to meet Santa and Mrs. Claus and share their wish list is one of the most memorable for kids. Couple this with a delicious breakfast and you have a new favorite Yuletide tradition for the whole family. Santa breakfast keepsakes will be a fun treat for the kids to take home. In addition to the breakfast spread\, table games will be available to ensure everyone is having fun.</span><br style="caret-color: rgb(29\, 33\, 41)\; color: rgb(29\, 33\, 41)\; font-family: system-ui\, -apple-system\, BlinkMacSystemFont\, &quot\;.SFNSText-Regular&quot\;\, sans-serif\; font-size: 14px\; white-space: pre-wrap\;" />\n<br style="caret-color: rgb(29\, 33\, 41)\; color: rgb(29\, 33\, 41)\; font-family: system-ui\, -apple-system\, BlinkMacSystemFont\, &quot\;.SFNSText-Regular&quot\;\, sans-serif\; font-size: 14px\; white-space: pre-wrap\;" />\n<span style="caret-color: rgb(29\, 33\, 41)\; color: rgb(29\, 33\, 41)\; font-family: system-ui\, -apple-system\, BlinkMacSystemFont\, &quot\;.SFNSText-Regular&quot\;\, sans-serif\; font-size: 14px\; white-space: pre-wrap\;">Parents can have photos of the kids with Santa by Juniper Tree Photography. A download link will be provided.</span>
LOCATION:pin Seabrook Town Hall Pacific Beach\, Washington 98571
UID:e.26.12317
SEQUENCE:3
DTSTAMP:20260424T025010Z
URL:https://chamber.graysharbor.org/events/details/sunday-breakfast-with-santa-second-seating-12317
END:VEVENT

END:VCALENDAR
