BEGIN:VCALENDAR
VERSION:2.0
PRODID:-//ChamberMaster//Event Calendar 2.0//EN
METHOD:PUBLISH
X-PUBLISHED-TTL:P3D
REFRESH-INTERVAL:P3D
CALSCALE:GREGORIAN
BEGIN:VEVENT
DTSTART:20190609T170000Z
DTEND:20190609T210000Z
X-MICROSOFT-CDO-ALLDAYEVENT:FALSE
SUMMARY:Sunday Jazz Brunch
DESCRIPTION:Sunday Jazz Brunch at Rediviva. Join us for great food\, cocktails and live jazz in historic Downtown Aberdeen. Indoor and outdoor seating available. No cover or reservations
X-ALT-DESC;FMTTYPE=text/html:Sunday Jazz Brunch at Rediviva. Join us for great food\, cocktails and live jazz in historic Downtown Aberdeen. Indoor and outdoor seating available. No cover or reservations
LOCATION:Rediviva Restaurant 118 East Wishkah Street Aberdeen\, WA 98520
UID:e.26.12039
SEQUENCE:3
DTSTAMP:20260424T120159Z
URL:https://chamber.graysharbor.org/events/details/sunday-jazz-brunch-06-09-2019-12039
END:VEVENT

END:VCALENDAR
