BEGIN:VCALENDAR
VERSION:2.0
PRODID:-//ChamberMaster//Event Calendar 2.0//EN
METHOD:PUBLISH
X-PUBLISHED-TTL:P3D
REFRESH-INTERVAL:P3D
CALSCALE:GREGORIAN
BEGIN:VEVENT
DTSTART:20190602T170000Z
DTEND:20190602T210000Z
X-MICROSOFT-CDO-ALLDAYEVENT:FALSE
SUMMARY:Sunday Jazz Brunch
DESCRIPTION:Sunday Jazz Brunch at Rediviva in Historic Downtown Aberdeen! Enjoy great food and live jazz all morning. Inside and outdoor seating available until 2pm\, no cover or reservations.
X-ALT-DESC;FMTTYPE=text/html:Sunday Jazz Brunch at Rediviva in Historic Downtown Aberdeen! Enjoy great food and live jazz all morning. Inside and outdoor seating available until 2pm\, no cover or reservations.
LOCATION:Rediviva 118 East Wishkah Street Aberdeen\, WA 98520
UID:e.26.12038
SEQUENCE:3
DTSTAMP:20260424T115913Z
URL:https://chamber.graysharbor.org/events/details/sunday-jazz-brunch-12038
END:VEVENT

END:VCALENDAR
